BEGIN:VCALENDAR
VERSION:2.0
PRODID:-//IALL - ECPv6.15.18//NONSGML v1.0//EN
CALSCALE:GREGORIAN
METHOD:PUBLISH
X-ORIGINAL-URL:https://iall.org
X-WR-CALDESC:Events for IALL
REFRESH-INTERVAL;VALUE=DURATION:PT1H
X-Robots-Tag:noindex
X-PUBLISHED-TTL:PT1H
BEGIN:VTIMEZONE
TZID:UTC
BEGIN:STANDARD
TZOFFSETFROM:+0000
TZOFFSETTO:+0000
TZNAME:UTC
DTSTART:20240101T000000
END:STANDARD
END:VTIMEZONE
BEGIN:VEVENT
DTSTART;VALUE=DATE:20250806
DTEND;VALUE=DATE:20250813
DTSTAMP:20260421T194354
CREATED:20250201T034857Z
LAST-MODIFIED:20250523T190659Z
UID:11912-1754438400-1755043199@iall.org
SUMMARY:ABA Annual Meeting (American Bar Association)
DESCRIPTION:“Rule of Law Rising: Advancing Law in a Connected World.” Programs include It’s a New World: The United States Supreme Court and Canadian Perspectives; The Rule of Law in the Face of Today’s Shifting Winds; and a joint ABA/CBA program on Trade/Cross Border Relations. \nToronto\, ON\, Canada
URL:https://iall.org/event/aba-annual-meeting-american-bar-association/
CATEGORIES:International Calendar
END:VEVENT
BEGIN:VEVENT
DTSTART;VALUE=DATE:20250818
DTEND;VALUE=DATE:20250823
DTSTAMP:20260421T194354
CREATED:20250201T034857Z
LAST-MODIFIED:20250521T184704Z
UID:11913-1755475200-1755907199@iall.org
SUMMARY:IFLA WLIC 2025 (International Federation of Library Associations and Institutions)
DESCRIPTION:“Uniting Knowledge\, Building the Future.” IFLA WLIC 2025 will incorporate different concepts\, from peer-learning and on-the-ground case studies to high-level thought leaders challenging our assumptions. Programs include Advocacy and Collaboration in a Time of Global Upheaval; Building Future Resilience: Leveraging Library Resources for Global and Disaster Health; and Navigating the Future: A Beginner’s Guide to AI Tools for Professional and Academic Success. \nAstana\, Kazakhstan
URL:https://iall.org/event/ifla-wlic-2025-international-federation-of-library-associations-and-institutions/
CATEGORIES:International Calendar
END:VEVENT
BEGIN:VEVENT
DTSTART;VALUE=DATE:20250824
DTEND;VALUE=DATE:20250828
DTSTAMP:20260421T194354
CREATED:20250201T034917Z
LAST-MODIFIED:20250306T214828Z
UID:11914-1755993600-1756339199@iall.org
SUMMARY:89th Annual Meeting of the Society of American Archivists
DESCRIPTION:“Archives * Records 2025: Making it Count.” The programs will demonstrate the impacts of our work and expand our understanding of what counts in our profession. Programs include applications of AI in our work and the ethical implications of its use\, and accessibility of archives\, both as repositories and workplaces. \nAnaheim\, CA\, USA
URL:https://iall.org/event/89th-annual-meeting-of-the-society-of-american-archivists/
CATEGORIES:International Calendar
END:VEVENT
END:VCALENDAR