BEGIN:VCALENDAR
VERSION:2.0
PRODID:-//IALL - ECPv6.15.18//NONSGML v1.0//EN
CALSCALE:GREGORIAN
METHOD:PUBLISH
X-WR-CALNAME:IALL
X-ORIGINAL-URL:https://iall.org
X-WR-CALDESC:Events for IALL
REFRESH-INTERVAL;VALUE=DURATION:PT1H
X-Robots-Tag:noindex
X-PUBLISHED-TTL:PT1H
BEGIN:VTIMEZONE
TZID:UTC
BEGIN:STANDARD
TZOFFSETFROM:+0000
TZOFFSETTO:+0000
TZNAME:UTC
DTSTART:20260101T000000
END:STANDARD
END:VTIMEZONE
BEGIN:VEVENT
DTSTART;VALUE=DATE:20270105
DTEND;VALUE=DATE:20270109
DTSTAMP:20260421T211945
CREATED:20250201T034948Z
LAST-MODIFIED:20260312T204034Z
UID:11927-1799107200-1799452799@iall.org
SUMMARY:AALS Annual Meeting (Association of American Law Schools)
DESCRIPTION:New York\, NY\, USA
URL:https://iall.org/event/aals-annual-meeting-association-of-american-law-schools-2/
CATEGORIES:International Calendar
END:VEVENT
END:VCALENDAR