BEGIN:VCALENDAR
VERSION:2.0
PRODID:-//IALL - ECPv6.15.18//NONSGML v1.0//EN
CALSCALE:GREGORIAN
METHOD:PUBLISH
X-WR-CALNAME:IALL
X-ORIGINAL-URL:https://iall.org
X-WR-CALDESC:Events for IALL
REFRESH-INTERVAL;VALUE=DURATION:PT1H
X-Robots-Tag:noindex
X-PUBLISHED-TTL:PT1H
BEGIN:VTIMEZONE
TZID:UTC
BEGIN:STANDARD
TZOFFSETFROM:+0000
TZOFFSETTO:+0000
TZNAME:UTC
DTSTART:20260101T000000
END:STANDARD
END:VTIMEZONE
BEGIN:VEVENT
DTSTART;VALUE=DATE:20270717
DTEND;VALUE=DATE:20270721
DTSTAMP:20260422T054416
CREATED:20250306T221405Z
LAST-MODIFIED:20250306T221405Z
UID:12383-1815782400-1816127999@iall.org
SUMMARY:AALL Annual Meeting (American Association of Law Libraries)
DESCRIPTION:Philadelphia\, PA\, USA
URL:https://iall.org/event/aall-annual-meeting-american-association-of-law-libraries-3/
CATEGORIES:International Calendar
END:VEVENT
END:VCALENDAR