BEGIN:VCALENDAR
VERSION:2.0
PRODID:-//IALL - ECPv6.15.20//NONSGML v1.0//EN
CALSCALE:GREGORIAN
METHOD:PUBLISH
X-WR-CALNAME:IALL
X-ORIGINAL-URL:https://iall.org
X-WR-CALDESC:Events for IALL
REFRESH-INTERVAL;VALUE=DURATION:PT1H
X-Robots-Tag:noindex
X-PUBLISHED-TTL:PT1H
BEGIN:VTIMEZONE
TZID:UTC
BEGIN:STANDARD
TZOFFSETFROM:+0000
TZOFFSETTO:+0000
TZNAME:UTC
DTSTART:20260101T000000
END:STANDARD
END:VTIMEZONE
BEGIN:VEVENT
DTSTART;VALUE=DATE:20270926
DTEND;VALUE=DATE:20271001
DTSTAMP:20260424T081956
CREATED:20250903T212345Z
LAST-MODIFIED:20260313T185120Z
UID:12803-1821916800-1822348799@iall.org
SUMMARY:45th IALL Annual Course (International Association of Law Libraries)
DESCRIPTION:Peace Palace Library\, The Hague\, and Sanders Law Library\, Erasmus School of Law\, Rotterdam\, The Netherlands
URL:https://iall.org/event/45th-iall-annual-course-international-association-of-law-libraries/
CATEGORIES:International Calendar
END:VEVENT
END:VCALENDAR