BEGIN:VCALENDAR
VERSION:2.0
PRODID:-//IALL - ECPv6.15.20//NONSGML v1.0//EN
CALSCALE:GREGORIAN
METHOD:PUBLISH
X-ORIGINAL-URL:https://iall.org
X-WR-CALDESC:Events for IALL
REFRESH-INTERVAL;VALUE=DURATION:PT1H
X-Robots-Tag:noindex
X-PUBLISHED-TTL:PT1H
BEGIN:VTIMEZONE
TZID:UTC
BEGIN:STANDARD
TZOFFSETFROM:+0000
TZOFFSETTO:+0000
TZNAME:UTC
DTSTART:20270101T000000
END:STANDARD
END:VTIMEZONE
BEGIN:VEVENT
DTSTART;VALUE=DATE:20280622
DTEND;VALUE=DATE:20280627
DTSTAMP:20260424T163102
CREATED:20250201T035004Z
LAST-MODIFIED:20250903T213627Z
UID:11931-1845244800-1845676799@iall.org
SUMMARY:ALA Annual Conference & Exhibition (American Library Association)
DESCRIPTION:Denver\, CO\, USA
URL:https://iall.org/event/ala-annual-conference-exhibition-american-library-association-3/
CATEGORIES:International Calendar
END:VEVENT
END:VCALENDAR