BEGIN:VCALENDAR
VERSION:2.0
PRODID:-//IALL - ECPv6.15.20//NONSGML v1.0//EN
CALSCALE:GREGORIAN
METHOD:PUBLISH
X-ORIGINAL-URL:https://iall.org
X-WR-CALDESC:Events for IALL
REFRESH-INTERVAL;VALUE=DURATION:PT1H
X-Robots-Tag:noindex
X-PUBLISHED-TTL:PT1H
BEGIN:VTIMEZONE
TZID:UTC
BEGIN:STANDARD
TZOFFSETFROM:+0000
TZOFFSETTO:+0000
TZNAME:UTC
DTSTART:20270101T000000
END:STANDARD
END:VTIMEZONE
BEGIN:VEVENT
DTSTART;VALUE=DATE:20280722
DTEND;VALUE=DATE:20280726
DTSTAMP:20260424T174637
CREATED:20250903T213827Z
LAST-MODIFIED:20250904T202949Z
UID:12812-1847836800-1848182399@iall.org
SUMMARY:AALL Annual Meeting and Conference (American Association of Law Libraries)
DESCRIPTION:Chicago\, IL\, USA
URL:https://iall.org/event/aall-annual-meeting-and-conference-american-association-of-law-libraries/
CATEGORIES:International Calendar
END:VEVENT
END:VCALENDAR