BEGIN:VCALENDAR
VERSION:2.0
PRODID:-//IALL - ECPv6.15.20//NONSGML v1.0//EN
CALSCALE:GREGORIAN
METHOD:PUBLISH
X-WR-CALNAME:IALL
X-ORIGINAL-URL:https://iall.org
X-WR-CALDESC:Events for IALL
REFRESH-INTERVAL;VALUE=DURATION:PT1H
X-Robots-Tag:noindex
X-PUBLISHED-TTL:PT1H
BEGIN:VTIMEZONE
TZID:UTC
BEGIN:STANDARD
TZOFFSETFROM:+0000
TZOFFSETTO:+0000
TZNAME:UTC
DTSTART:20270101T000000
END:STANDARD
END:VTIMEZONE
BEGIN:VEVENT
DTSTART;VALUE=DATE:20281113
DTEND;VALUE=DATE:20281118
DTSTAMP:20260424T213727
CREATED:20250201T035005Z
LAST-MODIFIED:20250201T043724Z
UID:11932-1857686400-1858118399@iall.org
SUMMARY:Charleston Library Conference
DESCRIPTION:Charleston\, SC\, USA
URL:https://iall.org/event/charleston-library-conference-4/
CATEGORIES:International Calendar
END:VEVENT
END:VCALENDAR