BEGIN:VCALENDAR
VERSION:2.0
PRODID:-//IALL - ECPv6.15.18//NONSGML v1.0//EN
CALSCALE:GREGORIAN
METHOD:PUBLISH
X-WR-CALNAME:IALL
X-ORIGINAL-URL:https://iall.org
X-WR-CALDESC:Events for IALL
REFRESH-INTERVAL;VALUE=DURATION:PT1H
X-Robots-Tag:noindex
X-PUBLISHED-TTL:PT1H
BEGIN:VTIMEZONE
TZID:UTC
BEGIN:STANDARD
TZOFFSETFROM:+0000
TZOFFSETTO:+0000
TZNAME:UTC
DTSTART:20250101T000000
END:STANDARD
END:VTIMEZONE
BEGIN:VEVENT
DTSTART;VALUE=DATE:20261102
DTEND;VALUE=DATE:20261107
DTSTAMP:20260421T170030
CREATED:20250201T034948Z
LAST-MODIFIED:20251209T202248Z
UID:11926-1793577600-1794009599@iall.org
SUMMARY:Charleston Library Conference
DESCRIPTION:The Charleston Conference is an informal annual gathering of librarians\, publishers and resource managers in Charleston\, SC to discuss issues of importance to them all. \nCharleston\, SC\, USA
URL:https://iall.org/event/charleston-library-conference-2/
CATEGORIES:International Calendar
END:VEVENT
BEGIN:VEVENT
DTSTART;VALUE=DATE:20261122
DTEND;VALUE=DATE:20261127
DTSTAMP:20260421T170030
CREATED:20251208T212229Z
LAST-MODIFIED:20251208T212229Z
UID:13061-1795305600-1795737599@iall.org
SUMMARY:IATUL 2026 (International Association of University Libraries)
DESCRIPTION:“Navigating the Future of Knowledge: Empowering Librarians Amidst Technological\, Financial and Role Transformation.”  A landmark event that celebrates knowledge\, collaboration\, and transformation in the world of academic librarianship and information services. \nUniversity of Johannesburg\, South Africa
URL:https://iall.org/event/iatul-2026-international-association-of-university-libraries/
CATEGORIES:International Calendar
END:VEVENT
BEGIN:VEVENT
DTSTART;VALUE=DATE:20270105
DTEND;VALUE=DATE:20270109
DTSTAMP:20260421T170030
CREATED:20250201T034948Z
LAST-MODIFIED:20260312T204034Z
UID:11927-1799107200-1799452799@iall.org
SUMMARY:AALS Annual Meeting (Association of American Law Schools)
DESCRIPTION:New York\, NY\, USA
URL:https://iall.org/event/aals-annual-meeting-association-of-american-law-schools-2/
CATEGORIES:International Calendar
END:VEVENT
BEGIN:VEVENT
DTSTART;VALUE=DATE:20270407
DTEND;VALUE=DATE:20270411
DTSTAMP:20260421T170030
CREATED:20250201T034948Z
LAST-MODIFIED:20250201T043724Z
UID:11928-1807056000-1807401599@iall.org
SUMMARY:ACRL Conference (Association of College & Research Libraries)
DESCRIPTION:Portland\, OR\, USA
URL:https://iall.org/event/acrl-conference-association-of-college-research-libraries/
CATEGORIES:International Calendar
END:VEVENT
BEGIN:VEVENT
DTSTART;VALUE=DATE:20270414
DTEND;VALUE=DATE:20270417
DTSTAMP:20260421T170030
CREATED:20250903T213350Z
LAST-MODIFIED:20250903T213350Z
UID:12808-1807660800-1807919999@iall.org
SUMMARY:2027 ASIL Annual Meeting (American Society of International Law)
DESCRIPTION:Washington\, DC\, USA
URL:https://iall.org/event/2027-asil-annual-meeting-american-society-of-international-law/
CATEGORIES:International Calendar
END:VEVENT
BEGIN:VEVENT
DTSTART;VALUE=DATE:20270624
DTEND;VALUE=DATE:20270629
DTSTAMP:20260421T170030
CREATED:20250201T035002Z
LAST-MODIFIED:20250903T212820Z
UID:11929-1813795200-1814227199@iall.org
SUMMARY:ALA Annual Conference & Exhibition (American Library Association)
DESCRIPTION:New Orleans\, LA\, USA
URL:https://iall.org/event/ala-annual-conference-exhibition-american-library-association-2/
CATEGORIES:International Calendar
END:VEVENT
BEGIN:VEVENT
DTSTART;VALUE=DATE:20270717
DTEND;VALUE=DATE:20270721
DTSTAMP:20260421T170030
CREATED:20250306T221405Z
LAST-MODIFIED:20250306T221405Z
UID:12383-1815782400-1816127999@iall.org
SUMMARY:AALL Annual Meeting (American Association of Law Libraries)
DESCRIPTION:Philadelphia\, PA\, USA
URL:https://iall.org/event/aall-annual-meeting-american-association-of-law-libraries-3/
CATEGORIES:International Calendar
END:VEVENT
BEGIN:VEVENT
DTSTART;VALUE=DATE:20270809
DTEND;VALUE=DATE:20270813
DTSTAMP:20260421T170030
CREATED:20251028T160212Z
LAST-MODIFIED:20260312T204947Z
UID:12880-1817769600-1818115199@iall.org
SUMMARY:IFLA World Library and Information Congress (International Federation of Library Associations and Institutions)
DESCRIPTION:Dates not set. \nLondon is the stage for the global library community to come together to celebrate IFLA’s Centenary year. As a vibrant international hub of innovation\, culture\, and learning\, London offers an inspiring setting to celebrate our history and look forward to the future of the library and information field. \nLondon\, England\, UK
URL:https://iall.org/event/ifla-world-library-and-information-congress-international-federation-of-library-associations-and-institutions-2/
CATEGORIES:International Calendar
END:VEVENT
BEGIN:VEVENT
DTSTART;VALUE=DATE:20270926
DTEND;VALUE=DATE:20271001
DTSTAMP:20260421T170030
CREATED:20250903T212345Z
LAST-MODIFIED:20260313T185120Z
UID:12803-1821916800-1822348799@iall.org
SUMMARY:45th IALL Annual Course (International Association of Law Libraries)
DESCRIPTION:Peace Palace Library\, The Hague\, and Sanders Law Library\, Erasmus School of Law\, Rotterdam\, The Netherlands
URL:https://iall.org/event/45th-iall-annual-course-international-association-of-law-libraries/
CATEGORIES:International Calendar
END:VEVENT
BEGIN:VEVENT
DTSTART;VALUE=DATE:20271101
DTEND;VALUE=DATE:20271106
DTSTAMP:20260421T170030
CREATED:20250201T035003Z
LAST-MODIFIED:20250201T043724Z
UID:11930-1825027200-1825459199@iall.org
SUMMARY:Charleston Library Conference
DESCRIPTION:Charleston\, SC\, USA
URL:https://iall.org/event/charleston-library-conference-3/
CATEGORIES:International Calendar
END:VEVENT
BEGIN:VEVENT
DTSTART;VALUE=DATE:20280426
DTEND;VALUE=DATE:20280429
DTSTAMP:20260421T170030
CREATED:20250903T213527Z
LAST-MODIFIED:20250904T202622Z
UID:12810-1840320000-1840579199@iall.org
SUMMARY:2028 ASIL Annual Meeting (American Society of International Law)
DESCRIPTION:Washington\, DC\, USA
URL:https://iall.org/event/2028-asil-annual-meeting-american-society-of-international-law/
CATEGORIES:International Calendar
END:VEVENT
BEGIN:VEVENT
DTSTART;VALUE=DATE:20280622
DTEND;VALUE=DATE:20280627
DTSTAMP:20260421T170030
CREATED:20250201T035004Z
LAST-MODIFIED:20250903T213627Z
UID:11931-1845244800-1845676799@iall.org
SUMMARY:ALA Annual Conference & Exhibition (American Library Association)
DESCRIPTION:Denver\, CO\, USA
URL:https://iall.org/event/ala-annual-conference-exhibition-american-library-association-3/
CATEGORIES:International Calendar
END:VEVENT
BEGIN:VEVENT
DTSTART;VALUE=DATE:20280722
DTEND;VALUE=DATE:20280726
DTSTAMP:20260421T170030
CREATED:20250903T213827Z
LAST-MODIFIED:20250904T202949Z
UID:12812-1847836800-1848182399@iall.org
SUMMARY:AALL Annual Meeting and Conference (American Association of Law Libraries)
DESCRIPTION:Chicago\, IL\, USA
URL:https://iall.org/event/aall-annual-meeting-and-conference-american-association-of-law-libraries/
CATEGORIES:International Calendar
END:VEVENT
BEGIN:VEVENT
DTSTART;VALUE=DATE:20281008
DTEND;VALUE=DATE:20281013
DTSTAMP:20260421T170030
CREATED:20251028T155539Z
LAST-MODIFIED:20251209T204049Z
UID:12878-1854576000-1855007999@iall.org
SUMMARY:IALL 46th Annual Course (International Association of Law Libraries)
DESCRIPTION:Dates TBA \nWellington\, NZ
URL:https://iall.org/event/iall-46th-annual-course-international-association-of-law-libraries/
CATEGORIES:International Calendar
END:VEVENT
BEGIN:VEVENT
DTSTART;VALUE=DATE:20281113
DTEND;VALUE=DATE:20281118
DTSTAMP:20260421T170030
CREATED:20250201T035005Z
LAST-MODIFIED:20250201T043724Z
UID:11932-1857686400-1858118399@iall.org
SUMMARY:Charleston Library Conference
DESCRIPTION:Charleston\, SC\, USA
URL:https://iall.org/event/charleston-library-conference-4/
CATEGORIES:International Calendar
END:VEVENT
BEGIN:VEVENT
DTSTART;VALUE=DATE:20290628
DTEND;VALUE=DATE:20290703
DTSTAMP:20260421T170030
CREATED:20250903T214131Z
LAST-MODIFIED:20260313T184234Z
UID:12815-1877299200-1877731199@iall.org
SUMMARY:ALA Annual Conference & Exhibition (American Library Association)
DESCRIPTION:Chicago\, IL\, USA
URL:https://iall.org/event/ala-annual-conference-exhibition-american-library-association-4/
CATEGORIES:International Calendar
END:VEVENT
BEGIN:VEVENT
DTSTART;VALUE=DATE:20291105
DTEND;VALUE=DATE:20291109
DTSTAMP:20260421T170030
CREATED:20250201T035006Z
LAST-MODIFIED:20250201T043724Z
UID:11933-1888531200-1888876799@iall.org
SUMMARY:Charleston Library Conference
DESCRIPTION:Charleston\, SC\, USA
URL:https://iall.org/event/charleston-library-conference-5/
CATEGORIES:International Calendar
END:VEVENT
BEGIN:VEVENT
DTSTART;VALUE=DATE:20300620
DTEND;VALUE=DATE:20300625
DTSTAMP:20260421T170030
CREATED:20250903T214246Z
LAST-MODIFIED:20250904T201503Z
UID:12817-1908144000-1908575999@iall.org
SUMMARY:ALA Annual Conference & Exhibition (American Library Association)
DESCRIPTION:New Orleans\, LA\, USA
URL:https://iall.org/event/ala-annual-conference-exhibition-american-library-association-5/
CATEGORIES:International Calendar
END:VEVENT
BEGIN:VEVENT
DTSTART;VALUE=DATE:20310626
DTEND;VALUE=DATE:20310701
DTSTAMP:20260421T170030
CREATED:20250903T214418Z
LAST-MODIFIED:20250903T214418Z
UID:12819-1940198400-1940630399@iall.org
SUMMARY:ALA Annual Conference & Exhibition (American Library Association)
DESCRIPTION:Philadelphia\, PA\, USA
URL:https://iall.org/event/ala-annual-conference-exhibition-american-library-association-6/
CATEGORIES:International Calendar
END:VEVENT
BEGIN:VEVENT
DTSTART;VALUE=DATE:20320624
DTEND;VALUE=DATE:20320629
DTSTAMP:20260421T170030
CREATED:20260313T184507Z
LAST-MODIFIED:20260313T184507Z
UID:13509-1971648000-1972079999@iall.org
SUMMARY:ALA Annual Conference & Exhibition (American Library Association)
DESCRIPTION:Chicago\, IL\, USA
URL:https://iall.org/event/ala-annual-conference-exhibition-american-library-association-7/
CATEGORIES:International Calendar
END:VEVENT
BEGIN:VEVENT
DTSTART;VALUE=DATE:20330623
DTEND;VALUE=DATE:20330628
DTSTAMP:20260421T170031
CREATED:20260313T184628Z
LAST-MODIFIED:20260313T184953Z
UID:13511-2003097600-2003529599@iall.org
SUMMARY:ALA Annual Conference & Exhibition (American Library Association)
DESCRIPTION:Anaheim\, CA\, USA
URL:https://iall.org/event/ala-annual-conference-exhibition-american-library-association-8/
CATEGORIES:International Calendar
END:VEVENT
END:VCALENDAR