BEGIN:VCALENDAR
VERSION:2.0
PRODID:-//IALL - ECPv6.15.18//NONSGML v1.0//EN
CALSCALE:GREGORIAN
METHOD:PUBLISH
X-WR-CALNAME:IALL
X-ORIGINAL-URL:https://iall.org
X-WR-CALDESC:Events for IALL
REFRESH-INTERVAL;VALUE=DURATION:PT1H
X-Robots-Tag:noindex
X-PUBLISHED-TTL:PT1H
BEGIN:VTIMEZONE
TZID:UTC
BEGIN:STANDARD
TZOFFSETFROM:+0000
TZOFFSETTO:+0000
TZNAME:UTC
DTSTART:20240101T000000
END:STANDARD
END:VTIMEZONE
BEGIN:VEVENT
DTSTART;VALUE=DATE:20250806
DTEND;VALUE=DATE:20250813
DTSTAMP:20260421T170644
CREATED:20250201T034857Z
LAST-MODIFIED:20250523T190659Z
UID:11912-1754438400-1755043199@iall.org
SUMMARY:ABA Annual Meeting (American Bar Association)
DESCRIPTION:“Rule of Law Rising: Advancing Law in a Connected World.” Programs include It’s a New World: The United States Supreme Court and Canadian Perspectives; The Rule of Law in the Face of Today’s Shifting Winds; and a joint ABA/CBA program on Trade/Cross Border Relations. \nToronto\, ON\, Canada
URL:https://iall.org/event/aba-annual-meeting-american-bar-association/
CATEGORIES:International Calendar
END:VEVENT
BEGIN:VEVENT
DTSTART;VALUE=DATE:20250728
DTEND;VALUE=DATE:20250801
DTSTAMP:20260421T170644
CREATED:20250201T034857Z
LAST-MODIFIED:20250516T164550Z
UID:11911-1753660800-1754006399@iall.org
SUMMARY:CARALL Annual Conference (Caribbean Association of Law Libraries)
DESCRIPTION:“Examining Commonwealth Caribbean Law: A Comparative Analysis in a Global Context.” Programs include Crossing the Border: Comparative Law Methodology and Analysis for Legal Practitioners and Law Librarians; and Contemporary Challenges to Open Justice in Commonwealth Caribbean Judiciaries: Law\, Technology and Culture. Speakers include the Hon. Justice Brian Sykes\, Chief Justice of Jamaica. \nUniversity of the West Indies\, Kingston\, Jamaica
URL:https://iall.org/event/carall-annual-conference-caribbean-association-of-law-libraries/
CATEGORIES:International Calendar
END:VEVENT
BEGIN:VEVENT
DTSTART;VALUE=DATE:20250719
DTEND;VALUE=DATE:20250723
DTSTAMP:20260421T170644
CREATED:20250201T034856Z
LAST-MODIFIED:20250306T175245Z
UID:11910-1752883200-1753228799@iall.org
SUMMARY:AALL Annual Meeting (American Association of Law Libraries)
DESCRIPTION:“Be Bold.” \nPrograms include Neighbours to the North: Understanding the Canadian Legal Landscape; Exploring the Globe: Cataloging Foreign Materials; and History at the High Court: Lessons from the Court’s Use of Historical Sources and Tips for Using and Teaching Historical Sources. \nPortland\, OR\, USA
URL:https://iall.org/event/aall-annual-meeting-american-association-of-law-libraries/
CATEGORIES:International Calendar
END:VEVENT
BEGIN:VEVENT
DTSTART;VALUE=DATE:20250717
DTEND;VALUE=DATE:20250719
DTSTAMP:20260421T170644
CREATED:20250520T144301Z
LAST-MODIFIED:20250520T144301Z
UID:12545-1752710400-1752883199@iall.org
SUMMARY:17th Conference on Legal Information\, Scholarship\, and Teaching (Boulder-CoList)
DESCRIPTION:Presentations include Academic Law Librarians\, Law School Clinics\, and Professional Responsibility; and Cool Tools and Tips from the Third Generation of FCIL Librarians. \nHybrid\, Paul L. Boley Law Library\, Lewis & Clark Law School\, Portland\, OR\, USA\, and Online
URL:https://iall.org/event/17th-conference-on-legal-information-scholarship-and-teaching-boulder-colist/
CATEGORIES:International Calendar
END:VEVENT
BEGIN:VEVENT
DTSTART;VALUE=DATE:20250707
DTEND;VALUE=DATE:20250709
DTSTAMP:20260421T170644
CREATED:20250203T185348Z
LAST-MODIFIED:20250203T185348Z
UID:11986-1751846400-1752019199@iall.org
SUMMARY:ILA-ASIL Asia-Pacific Research Forum - Sustainable Law
DESCRIPTION:“Sustainable International Law.” The Research Forum aims to provide a forum for academics\, private practitioners\, and government attorneys to present works-in-progress across the spectrum of international and transnational law issues related to the Asia-Pacific. \nHoward Civil Service International House\, Da’an District\, Taipei City\, Taiwan
URL:https://iall.org/event/ila-asil-asia-pacific-research-forum-sustainable-law/
CATEGORIES:International Calendar
END:VEVENT
BEGIN:VEVENT
DTSTART;VALUE=DATE:20250702
DTEND;VALUE=DATE:20250705
DTSTAMP:20260421T170644
CREATED:20250201T034856Z
LAST-MODIFIED:20250306T173702Z
UID:11909-1751414400-1751673599@iall.org
SUMMARY:LIBER 2025 Annual Conference (Association of European Research Libraries)
DESCRIPTION:“Engage\, Collaborate\, Innovate: Libraries Working to Address Global Challenges.” Keynote speaker is Thanos Giannakopoulos\, Chief of the Information Management Section and Principal Librarian of the Dag Hammarskjöld Library at the United Nations Headquarters. \nLausanne\, Switzerland
URL:https://iall.org/event/liber-2025-annual-conference-association-of-european-research-libraries/
CATEGORIES:International Calendar
END:VEVENT
BEGIN:VEVENT
DTSTART;VALUE=DATE:20250702
DTEND;VALUE=DATE:20250704
DTSTAMP:20260421T170644
CREATED:20250306T173519Z
LAST-MODIFIED:20250306T173519Z
UID:12356-1751414400-1751587199@iall.org
SUMMARY:CILIP Conference 2025
DESCRIPTION:“North Star: Asserting our Ethical Principles and Leading Through Change.” CILIP Conference 2025 will explore our “North Star” ethical principles in the context of how we navigate this time of great challenge and opportunity\, and examine how we\, as trusted information professionals\, can exert our influence\, demonstrate our impact\, and position our sector’s expertise to secure our seat the top table\, whether that be at an organizational\, local\, national\, or international level. \nBirmingham\, England\, UK
URL:https://iall.org/event/cilip-conference-2025/
CATEGORIES:International Calendar
END:VEVENT
BEGIN:VEVENT
DTSTART;VALUE=DATE:20250626
DTEND;VALUE=DATE:20250701
DTSTAMP:20260421T170644
CREATED:20250201T034817Z
LAST-MODIFIED:20250306T173333Z
UID:11908-1750896000-1751327999@iall.org
SUMMARY:ALA Annual Conference (American Library Association)
DESCRIPTION:Featured speakers include Gov. Gretchen Whitmer of Michigan\, George Takei\, and Geena Davis. Programs include Trials and Tribulations: Making Historic Court Records Freely Accessible to All; Bridging Justice: Legal Information Support for the Incarcerated; and Solving Technical\, Legal and Copyright Issues in Born-Digital Collecting from Independent Creators. \nPhiladelphia\, PA\, USA
URL:https://iall.org/event/ala-annual-conference-american-library-association/
CATEGORIES:International Calendar
END:VEVENT
BEGIN:VEVENT
DTSTART;VALUE=DATE:20250624
DTEND;VALUE=DATE:20250628
DTSTAMP:20260421T170644
CREATED:20250201T034817Z
LAST-MODIFIED:20250306T173208Z
UID:11907-1750723200-1751068799@iall.org
SUMMARY:9th Bibliothekskongress 2025 (Berufsverband Information Bibliothek)
DESCRIPTION:“Libraries Devoted to Democracy.” “Bibliotheken Entschlossen Demokratisch.” \nEnglish language programs include Implementing an AI Strategy at a Social Sciences University – How to Get the Library Involved; Freedom of Expression in Libraries – an Interpretation Based on Section 1 of the COE Recommendation on Libraries; and Exhibiting Colonial Collections in Libraries: Engaging with the Public. \nBremen\, Germany
URL:https://iall.org/event/9th-bibliothekskongress-2025-berufsverband-information-bibliothek/
CATEGORIES:International Calendar
END:VEVENT
BEGIN:VEVENT
DTSTART;VALUE=DATE:20250624
DTEND;VALUE=DATE:20250626
DTSTAMP:20260421T170644
CREATED:20250609T171612Z
LAST-MODIFIED:20250609T171612Z
UID:12587-1750723200-1750895999@iall.org
SUMMARY:International Conference on Aggregate Litigation
DESCRIPTION:“Aggregate Litigation – Current Challenges for Civil Justice in the Global Perspective.” The conference will cover AI\, funding\, privatization of dispute resolution\, judicial case management\, and other challenges. \nStellenbosch University\, South Africa.
URL:https://iall.org/event/international-conference-on-aggregate-litigation/
CATEGORIES:International Calendar
END:VEVENT
BEGIN:VEVENT
DTSTART;VALUE=DATE:20250617
DTEND;VALUE=DATE:20250621
DTSTAMP:20260421T170644
CREATED:20250521T200640Z
LAST-MODIFIED:20250521T200640Z
UID:12559-1750118400-1750463999@iall.org
SUMMARY:International Indigenous Librarians' Forum
DESCRIPTION:“Gdoo-naaganinaa (Our Dish)/sewatokwà:tshera (Dish with One Spoon).” “Our Dish” was both a peace treaty and an assertion of friendship and Sovereignty between the Anishinaabeg and the Haudenosaunee Nations\, and the theme is an affirmation of the long-standing responsibilities of these Nations to share governance and care for the the Lands and Waters on which the forum will take place. \nToronto\, ON\, Canada
URL:https://iall.org/event/international-indigenous-librarians-forum/
CATEGORIES:International Calendar
END:VEVENT
BEGIN:VEVENT
DTSTART;VALUE=DATE:20250611
DTEND;VALUE=DATE:20250614
DTSTAMP:20260421T170644
CREATED:20250306T172940Z
LAST-MODIFIED:20250306T172940Z
UID:12351-1749600000-1749859199@iall.org
SUMMARY:ALF 70e Congrès (Association des Bibliothécaires de France)
DESCRIPTION:“Bibliothèque et esprit critique.” Library and Critical Thinking. It is important to rebuild the legitimacy of libraries as places of trust to support the individual journey of the public towards enlightened autonomy. The Congress will offer an approach to critical thinking in libraries\, where introspection and openness to the world go hand in hand. \nMontreuil\, France
URL:https://iall.org/event/alf-70e-congres-association-des-bibliothecaires-de-france/
CATEGORIES:International Calendar
END:VEVENT
BEGIN:VEVENT
DTSTART;VALUE=DATE:20250611
DTEND;VALUE=DATE:20250614
DTSTAMP:20260421T170644
CREATED:20250201T034816Z
LAST-MODIFIED:20250521T183814Z
UID:11906-1749600000-1749859199@iall.org
SUMMARY:BIALL Annual Conference (British & Irish Association of Law Librarians)
DESCRIPTION:“Playing a Blinder: Moving Forward in the City of a Thousand Trades.” Presentations will include sessions on Integrating AI tools into legal databases; Finding company and legal information in other jurisdictions such as Ireland and the Cayman Islands; Irish legal systems; and U.S. legal research. \nBirmingham\, England\, UK
URL:https://iall.org/event/biall-annual-conference-british-irish-association-of-law-librarians/
CATEGORIES:International Calendar
END:VEVENT
BEGIN:VEVENT
DTSTART;VALUE=DATE:20250608
DTEND;VALUE=DATE:20250613
DTSTAMP:20260421T170644
CREATED:20250306T172713Z
LAST-MODIFIED:20250306T172713Z
UID:12349-1749340800-1749772799@iall.org
SUMMARY:ACURIL 2025 (Association of Caribbean University\, Research and Institutional Libraries)
DESCRIPTION:“Digital Humanities: Connecting the Caribbean (Communities) Through Archives\, Museums\, and Libraries.” The conference will address the challenges and opportunities in digitizing cultural resources within the context of the Caribbean’s “post-colonial” realities. Key discussions will focus on the ethical dimensions of reclaiming and digitizing colonial records\, the representation of marginalized voices\, and the deconstruction of Eurocentric frameworks in archival and curatorial practices. \nCuraçao
URL:https://iall.org/event/acuril-2025-association-of-caribbean-university-research-and-institutional-libraries/
CATEGORIES:International Calendar
END:VEVENT
BEGIN:VEVENT
DTSTART;VALUE=DATE:20250607
DTEND;VALUE=DATE:20250611
DTSTAMP:20260421T170644
CREATED:20250306T172543Z
LAST-MODIFIED:20250306T172543Z
UID:12347-1749254400-1749599999@iall.org
SUMMARY:SLA2025 116th Annual Conference & Expo (Special Libraries Association)
DESCRIPTION:“Creative Transformation: Shaping the Future of the Information Profession.” Programs include Creative Transformation Through Leadership and Management in Special Libraries of Asia; The Evolution of Use Cases for Generative AI in Answering Legal/BCI Research Questions; and Empowering Legal Research with Business Insights.” \nUniversity of Pittsburgh\, Pittsburgh\, PA\, USA
URL:https://iall.org/event/sla2025-116th-annual-conference-expo-special-libraries-association/
CATEGORIES:International Calendar
END:VEVENT
BEGIN:VEVENT
DTSTART;VALUE=DATE:20250605
DTEND;VALUE=DATE:20250607
DTSTAMP:20260421T170644
CREATED:20250417T181629Z
LAST-MODIFIED:20250521T202823Z
UID:12477-1749081600-1749254399@iall.org
SUMMARY:CALIcon 2025
DESCRIPTION:“Empower\, Enlighten\, Evolve.” Programs include AI in Basic Legal Research; Free Law Online & AI: Opportunities & Challenges; and Teaching Smarter: Leveraging AI for Classroom Preparation\, Instruction\, and Assessment. \nGeorgia State University College of Law\, Atlanta\, GA\, USA
URL:https://iall.org/event/calicon-2025/
CATEGORIES:International Calendar
END:VEVENT
BEGIN:VEVENT
DTSTART;VALUE=DATE:20250602
DTEND;VALUE=DATE:20250604
DTSTAMP:20260421T170644
CREATED:20250306T172222Z
LAST-MODIFIED:20250306T172222Z
UID:12343-1748822400-1748995199@iall.org
SUMMARY:CAPAL2025 (Canadian Association of Professional Academic Librarians)
DESCRIPTION:“The Fabric of Librarianship: A Patchwork of Experience.” The conference will explore how our experiences as academic librarians have been shaped by other library types of academic worlds\, and how the diversity of skills\, perspectives\, and roles that academic librarians fulfill piece together into the quilt of our professional community. \nGeorge Brown College\, Toronto\, ON\, Canada
URL:https://iall.org/event/capal2025-canadian-association-of-professional-academic-librarians/
CATEGORIES:International Calendar
END:VEVENT
BEGIN:VEVENT
DTSTART;VALUE=DATE:20250602
DTEND;VALUE=DATE:20250604
DTSTAMP:20260421T170644
CREATED:20250306T172344Z
LAST-MODIFIED:20250306T222224Z
UID:12345-1748822400-1748995199@iall.org
SUMMARY:CILIPS Annual Conference 2025 (Scotland’s Library and Information Professionals)
DESCRIPTION:“Connecting and Preserving Communities.” Keynote Speakers are Rosalyn Landor and David Jackson Young\, presenting Telling Tales – Audiobooks (Everything You Never Wanted to Know.) \nDundee\, Scotland\, UK
URL:https://iall.org/event/cilips-annual-conference-2025-scotlands-library-and-information-professionals/
CATEGORIES:International Calendar
END:VEVENT
BEGIN:VEVENT
DTSTART;VALUE=DATE:20250526
DTEND;VALUE=DATE:20250530
DTSTAMP:20260421T170644
CREATED:20250201T034816Z
LAST-MODIFIED:20250306T171927Z
UID:11905-1748217600-1748563199@iall.org
SUMMARY:SALALM 2025 Conference (Seminar on the Acquisition of Latin American Library Materials)
DESCRIPTION:“Hay que volar con lo establecido: Libraries and Contracultura(s) in las Américas.” \nThe conference will present papers dealing with the countercultures of Latin America and the Caribbean from all angles\, including the formation of international connections and solidarities through oppositional political\, artistic\, and cultural movements; and the material\, logistical\, and ethical challenges and responsibilities of collaborating with marginalized communities. \nNew York\, NY\, USA
URL:https://iall.org/event/salalm-2025-conference-seminar-on-the-acquisition-of-latin-american-library-materials/
CATEGORIES:International Calendar
END:VEVENT
BEGIN:VEVENT
DTSTART;VALUE=DATE:20250525
DTEND;VALUE=DATE:20250530
DTSTAMP:20260421T170644
CREATED:20250201T034816Z
LAST-MODIFIED:20250521T184846Z
UID:11904-1748131200-1748563199@iall.org
SUMMARY:CALL/ACBD 2025 Conference (Canadian Association of Law Libraries)
DESCRIPTION:“Moving Mountains Together/ Déplacer des Montagnes Ensemble.” \nSpeakers include Judge Renée Cochard of the Alberta Court of Justice and Sandra Jacobi of the Police Review Commission of Alberta. Programs include Law Librarians Teaching Comparative Law; Disability & Canadian Law; and a pre-conference workshop on Indigenous Truth and Institutional Trust – How Will Canadian Law Libraries Evolve? \nCalgary\, AB\, Canada
URL:https://iall.org/event/call-acbd-2025-conference-canadian-association-of-law-libraries/
CATEGORIES:International Calendar
END:VEVENT
BEGIN:VEVENT
DTSTART;VALUE=DATE:20250524
DTEND;VALUE=DATE:20250528
DTSTAMP:20260421T170644
CREATED:20250201T034803Z
LAST-MODIFIED:20250201T043739Z
UID:11903-1748044800-1748390399@iall.org
SUMMARY:NEXT Library Festival
DESCRIPTION:Sessions will cover three themes: The Sustainable Development Goals\, Democracy\, and Play. What role will the libraries play? How can libraries respond to book bans and censorship? Are libraries truly non-partisan? \nAarhus\, Denmark
URL:https://iall.org/event/next-library-festival/
CATEGORIES:International Calendar
END:VEVENT
BEGIN:VEVENT
DTSTART;VALUE=DATE:20250519
DTEND;VALUE=DATE:20250522
DTSTAMP:20260421T170644
CREATED:20250201T034803Z
LAST-MODIFIED:20250201T043739Z
UID:11902-1747612800-1747871999@iall.org
SUMMARY:LIDA 2025 (Libraries in the Digital Age)
DESCRIPTION:“Navigating Disruptive Times: Embracing Uncertainty\, Ensuring Credibility.” \nDubrovnik\, Croatia
URL:https://iall.org/event/lida-2025-libraries-in-the-digital-age/
CATEGORIES:International Calendar
END:VEVENT
BEGIN:VEVENT
DTSTART;VALUE=DATE:20250518
DTEND;VALUE=DATE:20250524
DTSTAMP:20260421T170644
CREATED:20250306T171407Z
LAST-MODIFIED:20250306T171407Z
UID:12338-1747526400-1748044799@iall.org
SUMMARY:6th AfLIA Conference & 8th African Library Summit (African Library & Information Associations & Institutions)
DESCRIPTION:“Open Knowledge: Present\, Future and African Realities.” AfLIA seeks to empower African librarians and allied professionals to effectively discern\, understand\, adapt and respond to the evolving trends and developments in the information and knowledge universe. Subthemes of the conference include Decolonising Educational Content for the Future of Learning in Africa\, and Intellectual Property Legislation in Africa. \nWindhoek\, Namibia
URL:https://iall.org/event/6th-aflia-conference-8th-african-library-summit-african-library-information-associations-institutions/
CATEGORIES:International Calendar
END:VEVENT
BEGIN:VEVENT
DTSTART;VALUE=DATE:20250512
DTEND;VALUE=DATE:20250517
DTSTAMP:20260421T170644
CREATED:20250201T034802Z
LAST-MODIFIED:20250201T043739Z
UID:11901-1747008000-1747439999@iall.org
SUMMARY:International Library Staff Week
DESCRIPTION:“A United Future: Equity\, Diversity\, Inclusion and Belonging in Libraries.”The event brings together professional library staff with varied backgrounds working in universities or other research orientated libraries with an interest in sharing ideas and networking with colleagues. \nKoç Űnïversïtesï\, Istanbul\, Türkiye
URL:https://iall.org/event/international-library-staff-week/
CATEGORIES:International Calendar
END:VEVENT
BEGIN:VEVENT
DTSTART;VALUE=DATE:20250509
DTEND;VALUE=DATE:20250512
DTSTAMP:20260421T170644
CREATED:20250306T171206Z
LAST-MODIFIED:20250306T171206Z
UID:12336-1746748800-1747007999@iall.org
SUMMARY:9th International Conference of Asian Special Libraries (ICOASL 2025)
DESCRIPTION:“Sustainable Development of Libraries Through Innovative Technologies.” The conference highlights the transformative effect of technology on modern libraries\, examining how innovations like artificial intelligence\, big data\, and digital archives revolutionise services and enhance user experiences. \nLucknow\, Uttar Pradesh\, India
URL:https://iall.org/event/9th-international-conference-of-asian-special-libraries-icoasl-2025/
CATEGORIES:International Calendar
END:VEVENT
BEGIN:VEVENT
DTSTART;VALUE=DATE:20250507
DTEND;VALUE=DATE:20250510
DTSTAMP:20260421T170644
CREATED:20250201T034802Z
LAST-MODIFIED:20250306T170958Z
UID:11900-1746576000-1746835199@iall.org
SUMMARY:13th Nordic Law Libraries Conference 2025
DESCRIPTION:“From Archives to AI: Law Libraries in the Age of Digital Transformation.” Programs include a keynote speech from Janne Salminen\, Dean of the Faculty of Law\, University of Turku\, on Revisiting the Idea of Law Libraries for Our Own Time. \nTurku\, Finland
URL:https://iall.org/event/13th-nordic-law-libraries-conference-2025/
CATEGORIES:International Calendar
END:VEVENT
BEGIN:VEVENT
DTSTART;VALUE=DATE:20250503
DTEND;VALUE=DATE:20250509
DTSTAMP:20260421T170644
CREATED:20250225T224040Z
LAST-MODIFIED:20250225T224040Z
UID:12237-1746230400-1746748799@iall.org
SUMMARY:IFCCP 26th Annual Conference and Library Protection Workshop(International Foundation for Cultural Property Protection)
DESCRIPTION:Programs include Libraries Are Hazardous? A Risk Assessment of Emerald Green Book Cloth in the Yale Library Collections; a Workshop on Access Control – Migrating from Outdated Technologies; and a tour and special exhibition visit at the Beinecke Rare Book & Manuscript Library. \nYale University\, New Haven\, CT\, USA
URL:https://iall.org/event/ifccp-26th-annual-conference-and-library-protection-workshopinternational-foundation-for-cultural-property-protection/
CATEGORIES:International Calendar
END:VEVENT
BEGIN:VEVENT
DTSTART;VALUE=DATE:20250415
DTEND;VALUE=DATE:20250419
DTSTAMP:20260421T170644
CREATED:20250201T034801Z
LAST-MODIFIED:20250320T135114Z
UID:11899-1744675200-1745020799@iall.org
SUMMARY:ASIL 2025 Annual Meeting (American Society of International Law)
DESCRIPTION:“Traditions and Transitions in International Law.” Traditional international law and institutions have proven resilient in addressing challenges\, but transitions are emerging in areas where existing frameworks may not be achieving the shared goals of the international community. Featured speakers include Leila N. Sadat; Joseph H.H. Weiler; E. Tendayi Achiume; and Claudia Salomon\, President of the International Court of Arbitration. \nWashington\, DC\, USA
URL:https://iall.org/event/asil-2025-annual-meeting-american-society-of-international-law/
CATEGORIES:International Calendar
END:VEVENT
BEGIN:VEVENT
DTSTART;VALUE=DATE:20250407
DTEND;VALUE=DATE:20250410
DTSTAMP:20260421T170644
CREATED:20250201T034747Z
LAST-MODIFIED:20250306T170314Z
UID:11898-1743984000-1744243199@iall.org
SUMMARY:33rd EBLIDA Council & Conference (European Bureau of Library\, Information & Documentation Associations)
DESCRIPTION:“Power and Resilience: Books and Reading in the Age of AI.” \nKeynote and featured speakers include  AI language technology evangelist Kaspars Kauliņš\, Jeppe Mørch of Saga Publishing\, and Serbin Oleg and Oksana Bruy of the Yaroslav Mudriy National Library of Ukraine. \nRiga\, Latvia
URL:https://iall.org/event/33rd-eblida-council-conference-european-bureau-of-library-information-documentation-associations/
CATEGORIES:International Calendar
END:VEVENT
BEGIN:VEVENT
DTSTART;VALUE=DATE:20250402
DTEND;VALUE=DATE:20250406
DTSTAMP:20260421T170644
CREATED:20250319T211235Z
LAST-MODIFIED:20250319T211235Z
UID:12422-1743552000-1743897599@iall.org
SUMMARY:ABA Techshow 2025
DESCRIPTION:Bringing Lawyers and Technology Together. Keynote speaker is Cory Doctorow. Programs include Ethical Panel Considerations for Lawyers Using Artificial Intelligence; Navigating AI-Generated Evidence\, Including Deepfakes; and Waking Up to a New Era: Preparing for the Legal Landscape of Tomorrow. \nChicago\, IL\, USA
URL:https://iall.org/event/aba-techshow-2025/
END:VEVENT
END:VCALENDAR