BEGIN:VCALENDAR
VERSION:2.0
PRODID:-//IALL - ECPv6.15.18//NONSGML v1.0//EN
CALSCALE:GREGORIAN
METHOD:PUBLISH
X-WR-CALNAME:IALL
X-ORIGINAL-URL:https://iall.org
X-WR-CALDESC:Events for IALL
REFRESH-INTERVAL;VALUE=DURATION:PT1H
X-Robots-Tag:noindex
X-PUBLISHED-TTL:PT1H
BEGIN:VTIMEZONE
TZID:UTC
BEGIN:STANDARD
TZOFFSETFROM:+0000
TZOFFSETTO:+0000
TZNAME:UTC
DTSTART:20240101T000000
END:STANDARD
END:VTIMEZONE
BEGIN:VEVENT
DTSTART;VALUE=DATE:20260427
DTEND;VALUE=DATE:20260502
DTSTAMP:20260421T193206
CREATED:20250521T211024Z
LAST-MODIFIED:20250903T202027Z
UID:12569-1777248000-1777679999@iall.org
SUMMARY:XXVII SCECSAL Conference (Standing Conference of Eastern\, Central\, and Southern African Library and Information Associations)
DESCRIPTION:“African Libraries and Information Services at the New Crossroads.” African libraries and information services are at a new crossroads\, needing to evolve to remain relevant in the digital age. This requires aligning with changing user needs and global trends while also addressing the challenge of serving communities that are excluded from or have limited access to digital technologies and resources. In all this\, libraries and information services are expected to be provided to all communities\, without leaving anyone behind. \nLivingstone\, Zambia \n 
URL:https://iall.org/event/xxvii-scecsal-conference-standing-conference-of-eastern-central-and-southern-african-library-and-information-associations/
CATEGORIES:International Calendar
END:VEVENT
BEGIN:VEVENT
DTSTART;VALUE=DATE:20260422
DTEND;VALUE=DATE:20260525
DTSTAMP:20260421T193206
CREATED:20260312T193631Z
LAST-MODIFIED:20260312T193631Z
UID:13489-1776816000-1779667199@iall.org
SUMMARY:AGLIS 2026 Conference (Association of Greek Librarians and Information Scientists)
DESCRIPTION:“Spaces of knowledge and memory: Redefining the image of libraries\, archives\, and museums in a changing world.” The theme of the conference highlights the critical importance of information spaces in preserving and transmitting knowledge and memory in a constantly evolving society. \nAikaterini Laskaridis Foundation\, Piraeus\, Greece
URL:https://iall.org/event/aglis-2026-conference-association-of-greek-librarians-and-information-scientists/
CATEGORIES:International Calendar
END:VEVENT
BEGIN:VEVENT
DTSTART;VALUE=DATE:20260422
DTEND;VALUE=DATE:20260426
DTSTAMP:20260421T193206
CREATED:20250201T034933Z
LAST-MODIFIED:20260206T151324Z
UID:11923-1776816000-1777161599@iall.org
SUMMARY:ASIL 2026 Annual Meeting
DESCRIPTION:“Advancing and Defending the Rule of Law.” The 2026 ASIL Annual Meeting\, the Society’s 120th such gathering\, will convene in uniquely difficult circumstances\, characterized by increasing tension surrounding the rule of law. It will be a key moment to probe the role of international lawyers\, norms and institutions in addressing this tension. Featured speakers include Prof. Laurence Boisson de Chazournes of the University of Geneva\, president of the Council of the Center for International Dispute Settlement; Prof. Dapo Akande\, Co-director of the Oxford Institue for Ethics\, Law\, and Armed Conflict\, and member of the UN International law Commission; and Associate Dean Adrien Wing\, Director of the University of Iowa Center for Human Rights. \nWashington\, DC\, USA
URL:https://iall.org/event/asil-2026-annual-meeting/
CATEGORIES:International Calendar
END:VEVENT
BEGIN:VEVENT
DTSTART;VALUE=DATE:20260420
DTEND;VALUE=DATE:20260423
DTSTAMP:20260421T193206
CREATED:20250903T203654Z
LAST-MODIFIED:20250903T203654Z
UID:12779-1776643200-1776902399@iall.org
SUMMARY:EBLIDA Annual Council and Conference (European Bureau of Library\, Information and Documentation Associations)
DESCRIPTION:Prague\, Czech Republic
URL:https://iall.org/event/eblida-annual-council-and-conference-european-bureau-of-library-information-and-documentation-associations/
CATEGORIES:International Calendar
END:VEVENT
BEGIN:VEVENT
DTSTART;VALUE=DATE:20260331
DTEND;VALUE=DATE:20260403
DTSTAMP:20260421T193206
CREATED:20251028T154303Z
LAST-MODIFIED:20251028T154303Z
UID:12871-1774915200-1775174399@iall.org
SUMMARY:AMICAL 2026
DESCRIPTION:AMICAL is an international consortium of 29 American-modeled institutions in 19 different countries. The conference brings together staff and faculty from the consortium’s institutions to share their challenges\, solutions and inspiration for improving libraries\, technology\, and pedagogy. \nAmerican University of Sharjah\, UAE
URL:https://iall.org/event/amical-2026/
CATEGORIES:International Calendar
END:VEVENT
BEGIN:VEVENT
DTSTART;VALUE=DATE:20260325
DTEND;VALUE=DATE:20260329
DTSTAMP:20260421T193206
CREATED:20250417T183001Z
LAST-MODIFIED:20250417T183001Z
UID:12482-1774396800-1774742399@iall.org
SUMMARY:ABA Techshow 2026
DESCRIPTION:Chicago\, IL\, USA
URL:https://iall.org/event/aba-techshow-2026/
END:VEVENT
BEGIN:VEVENT
DTSTART;VALUE=DATE:20260325
DTEND;VALUE=DATE:20260328
DTSTAMP:20260421T193206
CREATED:20251208T211241Z
LAST-MODIFIED:20251208T211241Z
UID:13059-1774396800-1774655999@iall.org
SUMMARY:RLUK26 Virtual Conference (Research Libraries UK)
DESCRIPTION:“Stewardship in Challenging Times: The Role of Libraries in Supporting civic Society.” RLUK26 will explore how libraries can adopt dynamic\, inclusive\, empathetic\, and strategic approaches to successfully manage the myriad human challenges they face\, embrace the contested nature of library spaces\, and support world-class research. \nOnline \n 
URL:https://iall.org/event/rluk26-virtual-conference-research-libraries-uk/
CATEGORIES:International Calendar
END:VEVENT
BEGIN:VEVENT
DTSTART;VALUE=DATE:20260317
DTEND;VALUE=DATE:20260320
DTSTAMP:20260421T193206
CREATED:20250903T203007Z
LAST-MODIFIED:20251205T223926Z
UID:12777-1773705600-1773964799@iall.org
SUMMARY:Computers in Libraries 2026
DESCRIPTION:” Libraries & Info Pros in Motion: Visions & Impact.” Computers in Libraries 2026 spotlights practical playbooks\, AI-empowered services\, and continuous-learning with “Olympic librarian” mindsets that move projects off the whiteboard and into daily practice. \nArlington\, VA\, USA
URL:https://iall.org/event/computers-in-libraries-2026/
CATEGORIES:International Calendar
END:VEVENT
BEGIN:VEVENT
DTSTART;VALUE=DATE:20260227
DTEND;VALUE=DATE:20260307
DTSTAMP:20260421T193206
CREATED:20260211T145800Z
LAST-MODIFIED:20260211T145800Z
UID:13184-1772150400-1772841599@iall.org
SUMMARY:2026 Diversity Summit: Surviving a Tough Year: Wellness and Advocacy
DESCRIPTION:Hosted by the Private Law Librarians & Information Professionals SIS of AALL (PLLIP-SIS) DEI Committee and the Black Law Librarians SIS (BLL-SIS). Presidential orders targeting DEI programs have resulted in major changes to DEI programs at law firms and cuts to funding for DEI related initiatives in institutions of higher learning including law schools. The virtual Diversity Summit will examine wellness and advocacy related mechanisms to assist in surviving this tough year and beyond\, with a focus on wellness on February 27 and on advocacy on March 6. \nOnline
URL:https://iall.org/event/2026-diversity-summit-surviving-a-tough-year-wellness-and-advocacy/
CATEGORIES:International Calendar
END:VEVENT
BEGIN:VEVENT
DTSTART;VALUE=DATE:20260203
DTEND;VALUE=DATE:20260210
DTSTAMP:20260421T193206
CREATED:20250903T202758Z
LAST-MODIFIED:20250903T202758Z
UID:12775-1770076800-1770681599@iall.org
SUMMARY:ABA Midyear Meeting
DESCRIPTION:San Antonio\, TX\, USA
URL:https://iall.org/event/aba-midyear-meeting/
CATEGORIES:International Calendar
END:VEVENT
BEGIN:VEVENT
DTSTART;VALUE=DATE:20260126
DTEND;VALUE=DATE:20260129
DTSTAMP:20260421T193206
CREATED:20250306T221003Z
LAST-MODIFIED:20250903T201150Z
UID:12379-1769385600-1769644799@iall.org
SUMMARY:Charleston Conference Asia
DESCRIPTION:Key topics to be explored include Generative AI\, Equity\, and Sustainable Development Goals. Keynote speaker is Dr. Joyashree Roy\, Founder Director of the South and South East Asia Multidisciplinary Applied Research Network on Transforming Societies of Global South (SMARTS) \nBangkok\, Thailand
URL:https://iall.org/event/charleston-conference-asia/
CATEGORIES:International Calendar
END:VEVENT
BEGIN:VEVENT
DTSTART;VALUE=DATE:20260106
DTEND;VALUE=DATE:20260110
DTSTAMP:20260421T193206
CREATED:20250201T034933Z
LAST-MODIFIED:20250903T200545Z
UID:11921-1767657600-1768003199@iall.org
SUMMARY:AALS Annual Meeting (Association of American Law Schools)
DESCRIPTION:“Impact. Excellence. Resilience. The Enduring Contributions of Legal Education.” As the Association marks its 125th anniversary\, this year’s theme will look back at the enduring impact of American legal education\, and the contributions of our faculty and staff colleagues\, on our local communities\, our nation\, our society\, and the world. \nNew Orleans\, LA\, USA
URL:https://iall.org/event/aals-annual-meeting-association-of-american-law-schools/
CATEGORIES:International Calendar
END:VEVENT
BEGIN:VEVENT
DTSTART;VALUE=DATE:20251120
DTEND;VALUE=DATE:20251122
DTSTAMP:20260421T193206
CREATED:20250521T211722Z
LAST-MODIFIED:20250523T191251Z
UID:12571-1763596800-1763769599@iall.org
SUMMARY:AJBD (Arbeitsgemeinschaft für juristisches Bibliotheks- und Dokumentationswesen)
DESCRIPTION:The annual autumn conference of the Association for Legal Libraries and Documentation\, the German-speaking section of the International Association of Law Libraries. \nFederal Labor Court\, Erfurt\, Germany
URL:https://iall.org/event/ajbd-arbeitsgemeinschaft-fur-juristisches-bibliotheks-und-dokumentationswesen/
CATEGORIES:International Calendar
END:VEVENT
BEGIN:VEVENT
DTSTART;VALUE=DATE:20251113
DTEND;VALUE=DATE:20251115
DTSTAMP:20260421T193206
CREATED:20251014T174050Z
LAST-MODIFIED:20251029T141811Z
UID:12862-1762992000-1763164799@iall.org
SUMMARY:54th CCIL Annual  Conference (Canadian Council on International Law)
DESCRIPTION:“Friends\, Enemies\, Frenemies: Engagement and Retaliation in International Law.” \nPrograms include The Draft Crimes Against Humanity Convention: Multilateral Negotiation in a Divided International Order; Trade in the Age of Tariffs: What Role do Canada and the Provinces Play in Redefining Trade Relations with the U.S.; and keynote addresses by Lloyd Axworthy of the World Refugee and Migration Council\, Gabrielle Marceau of the University of Ottawa\, and Secretary-General Jean-Marc Thouvenin of The Hague Academy of International Law. \nOttawa\, ON\, Canada
URL:https://iall.org/event/54th-ccil-annual-conference-canadian-council-on-international-law/
CATEGORIES:International Calendar
END:VEVENT
BEGIN:VEVENT
DTSTART;VALUE=DATE:20251103
DTEND;VALUE=DATE:20251108
DTSTAMP:20260421T193206
CREATED:20250201T034932Z
LAST-MODIFIED:20250201T043725Z
UID:11920-1762128000-1762559999@iall.org
SUMMARY:Charleston Library Conference
DESCRIPTION:Charleston\, SC\, USA
URL:https://iall.org/event/charleston-library-conference/
CATEGORIES:International Calendar
END:VEVENT
BEGIN:VEVENT
DTSTART;VALUE=DATE:20251102
DTEND;VALUE=DATE:20251108
DTSTAMP:20260421T193206
CREATED:20250201T034932Z
LAST-MODIFIED:20250201T043725Z
UID:11919-1762041600-1762559999@iall.org
SUMMARY:IBA 2025 (International Bar Association)
DESCRIPTION:Toronto\, ON\, Canada
URL:https://iall.org/event/iba-2025-international-bar-association/
CATEGORIES:International Calendar
END:VEVENT
BEGIN:VEVENT
DTSTART;VALUE=DATE:20251102
DTEND;VALUE=DATE:20251107
DTSTAMP:20260421T193206
CREATED:20250306T220550Z
LAST-MODIFIED:20250523T191033Z
UID:12377-1762041600-1762473599@iall.org
SUMMARY:IATL 45th Annual Conference (International Association of University Libraries)
DESCRIPTION:“Exploring Library Futures: Connection\, Innovation and Impact.” The conference is not only a showcase for the development and achievement of China’s academic libraries\, but an opportunity for the global library community to exchange experiences and make progress together. \nShanghai Jiao Tong University Library\, Shanghai\, China
URL:https://iall.org/event/iatl-45th-annual-conference-international-association-of-university-libraries/
CATEGORIES:International Calendar
END:VEVENT
BEGIN:VEVENT
DTSTART;VALUE=DATE:20251029
DTEND;VALUE=DATE:20251101
DTSTAMP:20260421T193206
CREATED:20250306T220420Z
LAST-MODIFIED:20250306T220420Z
UID:12375-1761696000-1761955199@iall.org
SUMMARY:Swiss Library Congress/Congrès Suisse des bibliothèques (Bibliosuisse)
DESCRIPTION:“Inviter – Inspirer – Connecter.” The largest continuing education and networking event for employees of academic and public libraries\, as well as information and documentation centers in Switzerland. Programs may be presented in German\, French\, Italian\, Rheto-Romansch\, or English. \nBerne\, Switzerland
URL:https://iall.org/event/swiss-library-congress-congres-suisse-des-bibliotheques-bibliosuisse/
CATEGORIES:International Calendar
END:VEVENT
BEGIN:VEVENT
DTSTART;VALUE=DATE:20251027
DTEND;VALUE=DATE:20251031
DTSTAMP:20260421T193206
CREATED:20250521T191114Z
LAST-MODIFIED:20250521T191114Z
UID:12557-1761523200-1761868799@iall.org
SUMMARY:Internet Librarian Connect 2025
DESCRIPTION:“Connecting Community Leaders.” This year’s tracks encompass such topics as Discovery & Navigation\, Makerspace Strategies & Creative Services\, Smart Tools & Technologies\, Integrating Evolving Technologies\, AI & Machine Learning\, User Experience\, Curating Digital Assets\, Resetting & Inspiring Innovation\, Web Presence Development & Management\, Enterprise Trends\, Social Media & Networking\, Collaborating With New Community Partners\, Content Management\, and more. \nOnline.
URL:https://iall.org/event/internet-librarian-connect-2025/
CATEGORIES:International Calendar
END:VEVENT
BEGIN:VEVENT
DTSTART;VALUE=DATE:20251027
DTEND;VALUE=DATE:20251031
DTSTAMP:20260421T193206
CREATED:20250201T034919Z
LAST-MODIFIED:20250201T043725Z
UID:11918-1761523200-1761868799@iall.org
SUMMARY:ICA 2025 Congress (International Council on Archives)
DESCRIPTION:“Knowing Pasts. Creating Futures.” The Congress will speak to and address pertinent archives and records issues that are faced by the profession. \nBarcelona\, Catalonia\, Spain
URL:https://iall.org/event/ica-2025-congress-international-council-on-archives/
CATEGORIES:International Calendar
END:VEVENT
BEGIN:VEVENT
DTSTART;VALUE=DATE:20251025
DTEND;VALUE=DATE:20251027
DTSTAMP:20260421T193206
CREATED:20250306T220155Z
LAST-MODIFIED:20250306T220155Z
UID:12373-1761350400-1761523199@iall.org
SUMMARY:10th International Conference on Library and Information Science (ICLIS-2025)
DESCRIPTION:Tokyo\, Japan
URL:https://iall.org/event/10th-international-conference-on-library-and-information-science-iclis-2025/
CATEGORIES:International Calendar
END:VEVENT
BEGIN:VEVENT
DTSTART;VALUE=DATE:20251023
DTEND;VALUE=DATE:20251026
DTSTAMP:20260421T193206
CREATED:20250408T133203Z
LAST-MODIFIED:20250408T133203Z
UID:12453-1761177600-1761436799@iall.org
SUMMARY:International Law Weekend 2025
DESCRIPTION:“Crisis as Catalyst in International Law.” \nInternational Law Week 2025 will explore how crises can serve as transformative moments that challenge and reshape the framework of international law. By serving as catalysts for innovation\, crises provide opportunities to reevaluate and reconstruct international legal norms. \nNew York City\, NY\, USA
URL:https://iall.org/event/international-law-weekend-2025/
CATEGORIES:International Calendar
END:VEVENT
BEGIN:VEVENT
DTSTART;VALUE=DATE:20251022
DTEND;VALUE=DATE:20251025
DTSTAMP:20260421T193206
CREATED:20250201T034918Z
LAST-MODIFIED:20250201T043725Z
UID:11916-1761091200-1761350399@iall.org
SUMMARY:2025 KAL National Library Conference & Exhibition
DESCRIPTION:Suwon\, Republic of Korea
URL:https://iall.org/event/2025-kal-national-library-conference-exhibition/
CATEGORIES:International Calendar
END:VEVENT
BEGIN:VEVENT
DTSTART;VALUE=DATE:20251019
DTEND;VALUE=DATE:20251024
DTSTAMP:20260421T193206
CREATED:20250201T034918Z
LAST-MODIFIED:20250306T215555Z
UID:11915-1760832000-1761263999@iall.org
SUMMARY:IALL Annual Course (International Association of Law Libraries)
DESCRIPTION:“Space City Houston: Legal Gateway to the World\, and Beyond.” \nPrograms include Ownership\, Licensing\, and Enforcement of Patents in Outer Space\, Launch\, and Re-Entry; The Four Pillars of American Energy – How 5% of the World’s Population Creates 25% of the World’s GDP; and Uniform Code of Military Justice (UCMJ) & the Trial of the Buffalo Soldiers. An optional day is scheduled for the Johnson Space Center\, with a discussion on Space Law. \nSouth Texas College of Law\, Houston\, TX\, USA
URL:https://iall.org/event/iall-annual-course-international-association-of-law-libraries/
CATEGORIES:International Calendar
END:VEVENT
BEGIN:VEVENT
DTSTART;VALUE=DATE:20251016
DTEND;VALUE=DATE:20251019
DTSTAMP:20260421T193206
CREATED:20250609T170533Z
LAST-MODIFIED:20250609T170533Z
UID:12585-1760572800-1760831999@iall.org
SUMMARY:ASCL 2025 Annual Meeting (American Society of Comparative Law)
DESCRIPTION:“The Paris Congress at 125: Comparative Law’s Entanglement with Power from Paris to Today.” This annual meeting takes its inspiration from the stories we tell ourselves about Comparative Law—its origins\, its legacy—and\, specifically\, the fact that this entanglement with power in varying historical contexts is often absent from our foundational narratives. \nMcGill University\, Montreal\, Quebec
URL:https://iall.org/event/ascl-2025-annual-meeting-american-society-of-comparative-law/
CATEGORIES:International Calendar
END:VEVENT
BEGIN:VEVENT
DTSTART;VALUE=DATE:20251015
DTEND;VALUE=DATE:20251019
DTSTAMP:20260421T193206
CREATED:20250306T215414Z
LAST-MODIFIED:20250306T215414Z
UID:12369-1760486400-1760831999@iall.org
SUMMARY:AoIR 2025 (Association of Internet Researchers)
DESCRIPTION:Universidade Federal Fluminense\, Niterói\, Rio de Janeiro\, Brazil
URL:https://iall.org/event/aoir-2025-association-of-internet-researchers-2/
CATEGORIES:International Calendar
END:VEVENT
BEGIN:VEVENT
DTSTART;VALUE=DATE:20250930
DTEND;VALUE=DATE:20251004
DTSTAMP:20260421T193206
CREATED:20250521T210627Z
LAST-MODIFIED:20250521T210627Z
UID:12567-1759190400-1759535999@iall.org
SUMMARY:LIASA 2025 Conference (Library and Information Association of South Africa)
DESCRIPTION:“Libraries as Innovation Hubs: Empowering Communities.” \nGqeberha\, Eastern Cape\, South Africa
URL:https://iall.org/event/liasa-2025-conference-library-and-information-association-of-south-africa/
CATEGORIES:International Calendar
END:VEVENT
BEGIN:VEVENT
DTSTART;VALUE=DATE:20250925
DTEND;VALUE=DATE:20250928
DTSTAMP:20260421T193206
CREATED:20250201T201308Z
LAST-MODIFIED:20250428T181824Z
UID:11984-1758758400-1759017599@iall.org
SUMMARY:ASIL Midyear Meeting (American Society of International Law)
DESCRIPTION:“Turning Points and Paradigm Shifts in International Law.” The ASIL Midyear Meeting includes leadership meetings; the Research Forum\, and programming for practitioners. \nCase Western Reserve University School of Law\, Cleveland\, OH\, USA
URL:https://iall.org/event/asil-midyear-meeting-american-society-of-international-law/
CATEGORIES:International Calendar
END:VEVENT
BEGIN:VEVENT
DTSTART;VALUE=DATE:20250918
DTEND;VALUE=DATE:20250920
DTSTAMP:20260421T193206
CREATED:20250611T160422Z
LAST-MODIFIED:20250611T160422Z
UID:12591-1758153600-1758326399@iall.org
SUMMARY:New Zealand Law Librarians Association (NZLLA)
DESCRIPTION:“Whanaungatanga: Connections in the Digital Age.” \nAuckland University of Technology\, Auckland\, NZ
URL:https://iall.org/event/new-zealand-law-librarians-association-nzlla/
CATEGORIES:International Calendar
END:VEVENT
BEGIN:VEVENT
DTSTART;VALUE=DATE:20250910
DTEND;VALUE=DATE:20250914
DTSTAMP:20260421T193206
CREATED:20250306T215156Z
LAST-MODIFIED:20250521T210153Z
UID:12367-1757462400-1757807999@iall.org
SUMMARY:2025 ESIL Annual Conference (European Society of International Law)
DESCRIPTION:“Reconstructing International Law.”  The theme of “reconstructing international law” will be brought to life on institutional\, normative\, historical\, and theoretical levels. Programs include Reconstructing the Sources of International Law; Institutional Reconstructions: Which Role for the United Nations?; and a keynote lecture on Reconstructing International Law by Professor Adam Bodnar\, Minister of Justice of the Republic of Poland. \nFreie Universität\, Berlin\, Germany
URL:https://iall.org/event/2025-esil-annual-conference-european-society-of-international-law/
CATEGORIES:International Calendar
END:VEVENT
END:VCALENDAR