BEGIN:VCALENDAR
VERSION:2.0
PRODID:-//IALL - ECPv6.15.18//NONSGML v1.0//EN
CALSCALE:GREGORIAN
METHOD:PUBLISH
X-WR-CALNAME:IALL
X-ORIGINAL-URL:https://iall.org
X-WR-CALDESC:Events for IALL
REFRESH-INTERVAL;VALUE=DURATION:PT1H
X-Robots-Tag:noindex
X-PUBLISHED-TTL:PT1H
BEGIN:VTIMEZONE
TZID:UTC
BEGIN:STANDARD
TZOFFSETFROM:+0000
TZOFFSETTO:+0000
TZNAME:UTC
DTSTART:20240101T000000
END:STANDARD
END:VTIMEZONE
BEGIN:VEVENT
DTSTART;VALUE=DATE:20250307
DTEND;VALUE=DATE:20250308
DTSTAMP:20260422T014220
CREATED:20250207T151143Z
LAST-MODIFIED:20250207T151143Z
UID:12085-1741305600-1741391999@iall.org
SUMMARY:PLLIP Diversity Summit (Private Law Librarians & Information Professionals SIS)
DESCRIPTION:“No DEI or New DEI: Reimagining the Next Few Years.” After the executive order titled “Ending Illegal Discrimination and Restoring Merit-Based Opportunity\,” the fifth annual virtual Diversity Summit will continue this timely conversation relative to the metamorphosis of DEI\, how it continues to change and what is in store for the future of DEI. Keynote speaker is Jennifer McClanahan\, DEO and Founder of Leverage to Lead. \nVirtual conference
URL:https://iall.org/event/pllip-diversity-summit-private-law-librarians-information-professionals-sis/
END:VEVENT
BEGIN:VEVENT
DTSTART;VALUE=DATE:20250130
DTEND;VALUE=DATE:20250204
DTSTAMP:20260422T014220
CREATED:20250201T034743Z
LAST-MODIFIED:20250201T043752Z
UID:11891-1738195200-1738627199@iall.org
SUMMARY:ABA Midyear Meeting (American Bar Association)
DESCRIPTION:Phoenix\, AZ\, USA
URL:https://iall.org/event/aba-midyear-meeting-american-bar-association/
CATEGORIES:International Calendar
END:VEVENT
BEGIN:VEVENT
DTSTART;VALUE=DATE:20250124
DTEND;VALUE=DATE:20250128
DTSTAMP:20260422T014220
CREATED:20250201T034742Z
LAST-MODIFIED:20250201T043752Z
UID:11890-1737676800-1738022399@iall.org
SUMMARY:LibLearnX: The Library Learning Experience
DESCRIPTION:“Reimagine\, Refocus\, Reset: Charting a Path for the Future.” LibLearnX will offer innovative session design concepts on the program to help attendees learn\, network\, and find solutions. Featured speakers include Vauhini Vara\, Nick Brooks\, and Kyle Edwards. \nPhoenix\, AZ\, USA
URL:https://iall.org/event/liblearnx-the-library-learning-experience/
CATEGORIES:International Calendar
END:VEVENT
BEGIN:VEVENT
DTSTART;VALUE=DATE:20250121
DTEND;VALUE=DATE:20250124
DTSTAMP:20260422T014220
CREATED:20250201T034742Z
LAST-MODIFIED:20250201T043752Z
UID:11889-1737417600-1737676799@iall.org
SUMMARY:BOBCATSSS 2025
DESCRIPTION:“Artificial Intelligence in Library and Information Science: Exploring the Intersection.” Subthemes include AI Applications in Libraries and Information Centers and AI and Information Management. \nİstanbul Üniversitesi Merkez Kampüsü\, İstanbul\, Türkiye
URL:https://iall.org/event/bobcatsss-2025/
CATEGORIES:International Calendar
END:VEVENT
BEGIN:VEVENT
DTSTART;VALUE=DATE:20250107
DTEND;VALUE=DATE:20250112
DTSTAMP:20260422T014220
CREATED:20250201T035624Z
LAST-MODIFIED:20250201T043752Z
UID:11934-1736208000-1736639999@iall.org
SUMMARY:2025 AALS Annual Meeting (Association of American Law Schools)
DESCRIPTION:“Courage in Action.” Programs include New Voices in Human Rights and International\nLaw; Litigation in the International Court of Justice under the Genocide Convention; and\nInnovations in International Law Instructional Design. \nSan Francisco\, CA\, USA
URL:https://iall.org/event/2025-aals-annual-meeting-association-of-american-law-schools/
CATEGORIES:International Calendar
END:VEVENT
END:VCALENDAR