BEGIN:VCALENDAR
VERSION:2.0
PRODID:-//IALL - ECPv6.15.18//NONSGML v1.0//EN
CALSCALE:GREGORIAN
METHOD:PUBLISH
X-WR-CALNAME:IALL
X-ORIGINAL-URL:https://iall.org
X-WR-CALDESC:Events for IALL
REFRESH-INTERVAL;VALUE=DURATION:PT1H
X-Robots-Tag:noindex
X-PUBLISHED-TTL:PT1H
BEGIN:VTIMEZONE
TZID:UTC
BEGIN:STANDARD
TZOFFSETFROM:+0000
TZOFFSETTO:+0000
TZNAME:UTC
DTSTART:20240101T000000
END:STANDARD
END:VTIMEZONE
BEGIN:VEVENT
DTSTART;VALUE=DATE:20250503
DTEND;VALUE=DATE:20250509
DTSTAMP:20260422T015407
CREATED:20250225T224040Z
LAST-MODIFIED:20250225T224040Z
UID:12237-1746230400-1746748799@iall.org
SUMMARY:IFCCP 26th Annual Conference and Library Protection Workshop(International Foundation for Cultural Property Protection)
DESCRIPTION:Programs include Libraries Are Hazardous? A Risk Assessment of Emerald Green Book Cloth in the Yale Library Collections; a Workshop on Access Control – Migrating from Outdated Technologies; and a tour and special exhibition visit at the Beinecke Rare Book & Manuscript Library. \nYale University\, New Haven\, CT\, USA
URL:https://iall.org/event/ifccp-26th-annual-conference-and-library-protection-workshopinternational-foundation-for-cultural-property-protection/
CATEGORIES:International Calendar
END:VEVENT
BEGIN:VEVENT
DTSTART;VALUE=DATE:20250507
DTEND;VALUE=DATE:20250510
DTSTAMP:20260422T015407
CREATED:20250201T034802Z
LAST-MODIFIED:20250306T170958Z
UID:11900-1746576000-1746835199@iall.org
SUMMARY:13th Nordic Law Libraries Conference 2025
DESCRIPTION:“From Archives to AI: Law Libraries in the Age of Digital Transformation.” Programs include a keynote speech from Janne Salminen\, Dean of the Faculty of Law\, University of Turku\, on Revisiting the Idea of Law Libraries for Our Own Time. \nTurku\, Finland
URL:https://iall.org/event/13th-nordic-law-libraries-conference-2025/
CATEGORIES:International Calendar
END:VEVENT
BEGIN:VEVENT
DTSTART;VALUE=DATE:20250509
DTEND;VALUE=DATE:20250512
DTSTAMP:20260422T015407
CREATED:20250306T171206Z
LAST-MODIFIED:20250306T171206Z
UID:12336-1746748800-1747007999@iall.org
SUMMARY:9th International Conference of Asian Special Libraries (ICOASL 2025)
DESCRIPTION:“Sustainable Development of Libraries Through Innovative Technologies.” The conference highlights the transformative effect of technology on modern libraries\, examining how innovations like artificial intelligence\, big data\, and digital archives revolutionise services and enhance user experiences. \nLucknow\, Uttar Pradesh\, India
URL:https://iall.org/event/9th-international-conference-of-asian-special-libraries-icoasl-2025/
CATEGORIES:International Calendar
END:VEVENT
BEGIN:VEVENT
DTSTART;VALUE=DATE:20250512
DTEND;VALUE=DATE:20250517
DTSTAMP:20260422T015407
CREATED:20250201T034802Z
LAST-MODIFIED:20250201T043739Z
UID:11901-1747008000-1747439999@iall.org
SUMMARY:International Library Staff Week
DESCRIPTION:“A United Future: Equity\, Diversity\, Inclusion and Belonging in Libraries.”The event brings together professional library staff with varied backgrounds working in universities or other research orientated libraries with an interest in sharing ideas and networking with colleagues. \nKoç Űnïversïtesï\, Istanbul\, Türkiye
URL:https://iall.org/event/international-library-staff-week/
CATEGORIES:International Calendar
END:VEVENT
BEGIN:VEVENT
DTSTART;VALUE=DATE:20250518
DTEND;VALUE=DATE:20250524
DTSTAMP:20260422T015407
CREATED:20250306T171407Z
LAST-MODIFIED:20250306T171407Z
UID:12338-1747526400-1748044799@iall.org
SUMMARY:6th AfLIA Conference & 8th African Library Summit (African Library & Information Associations & Institutions)
DESCRIPTION:“Open Knowledge: Present\, Future and African Realities.” AfLIA seeks to empower African librarians and allied professionals to effectively discern\, understand\, adapt and respond to the evolving trends and developments in the information and knowledge universe. Subthemes of the conference include Decolonising Educational Content for the Future of Learning in Africa\, and Intellectual Property Legislation in Africa. \nWindhoek\, Namibia
URL:https://iall.org/event/6th-aflia-conference-8th-african-library-summit-african-library-information-associations-institutions/
CATEGORIES:International Calendar
END:VEVENT
BEGIN:VEVENT
DTSTART;VALUE=DATE:20250519
DTEND;VALUE=DATE:20250522
DTSTAMP:20260422T015407
CREATED:20250201T034803Z
LAST-MODIFIED:20250201T043739Z
UID:11902-1747612800-1747871999@iall.org
SUMMARY:LIDA 2025 (Libraries in the Digital Age)
DESCRIPTION:“Navigating Disruptive Times: Embracing Uncertainty\, Ensuring Credibility.” \nDubrovnik\, Croatia
URL:https://iall.org/event/lida-2025-libraries-in-the-digital-age/
CATEGORIES:International Calendar
END:VEVENT
BEGIN:VEVENT
DTSTART;VALUE=DATE:20250524
DTEND;VALUE=DATE:20250528
DTSTAMP:20260422T015407
CREATED:20250201T034803Z
LAST-MODIFIED:20250201T043739Z
UID:11903-1748044800-1748390399@iall.org
SUMMARY:NEXT Library Festival
DESCRIPTION:Sessions will cover three themes: The Sustainable Development Goals\, Democracy\, and Play. What role will the libraries play? How can libraries respond to book bans and censorship? Are libraries truly non-partisan? \nAarhus\, Denmark
URL:https://iall.org/event/next-library-festival/
CATEGORIES:International Calendar
END:VEVENT
BEGIN:VEVENT
DTSTART;VALUE=DATE:20250525
DTEND;VALUE=DATE:20250530
DTSTAMP:20260422T015407
CREATED:20250201T034816Z
LAST-MODIFIED:20250521T184846Z
UID:11904-1748131200-1748563199@iall.org
SUMMARY:CALL/ACBD 2025 Conference (Canadian Association of Law Libraries)
DESCRIPTION:“Moving Mountains Together/ Déplacer des Montagnes Ensemble.” \nSpeakers include Judge Renée Cochard of the Alberta Court of Justice and Sandra Jacobi of the Police Review Commission of Alberta. Programs include Law Librarians Teaching Comparative Law; Disability & Canadian Law; and a pre-conference workshop on Indigenous Truth and Institutional Trust – How Will Canadian Law Libraries Evolve? \nCalgary\, AB\, Canada
URL:https://iall.org/event/call-acbd-2025-conference-canadian-association-of-law-libraries/
CATEGORIES:International Calendar
END:VEVENT
BEGIN:VEVENT
DTSTART;VALUE=DATE:20250526
DTEND;VALUE=DATE:20250530
DTSTAMP:20260422T015407
CREATED:20250201T034816Z
LAST-MODIFIED:20250306T171927Z
UID:11905-1748217600-1748563199@iall.org
SUMMARY:SALALM 2025 Conference (Seminar on the Acquisition of Latin American Library Materials)
DESCRIPTION:“Hay que volar con lo establecido: Libraries and Contracultura(s) in las Américas.” \nThe conference will present papers dealing with the countercultures of Latin America and the Caribbean from all angles\, including the formation of international connections and solidarities through oppositional political\, artistic\, and cultural movements; and the material\, logistical\, and ethical challenges and responsibilities of collaborating with marginalized communities. \nNew York\, NY\, USA
URL:https://iall.org/event/salalm-2025-conference-seminar-on-the-acquisition-of-latin-american-library-materials/
CATEGORIES:International Calendar
END:VEVENT
END:VCALENDAR