BEGIN:VCALENDAR
VERSION:2.0
PRODID:-//IALL - ECPv6.15.18//NONSGML v1.0//EN
CALSCALE:GREGORIAN
METHOD:PUBLISH
X-ORIGINAL-URL:https://iall.org
X-WR-CALDESC:Events for IALL
REFRESH-INTERVAL;VALUE=DURATION:PT1H
X-Robots-Tag:noindex
X-PUBLISHED-TTL:PT1H
BEGIN:VTIMEZONE
TZID:UTC
BEGIN:STANDARD
TZOFFSETFROM:+0000
TZOFFSETTO:+0000
TZNAME:UTC
DTSTART:20250101T000000
END:STANDARD
END:VTIMEZONE
BEGIN:VEVENT
DTSTART;VALUE=DATE:20260601
DTEND;VALUE=DATE:20260603
DTSTAMP:20260421T100451
CREATED:20260312T194627Z
LAST-MODIFIED:20260313T171238Z
UID:13491-1780272000-1780444799@iall.org
SUMMARY:CILIPS Annual Conference 2026
DESCRIPTION:“Amplifying Impact.” The CILIPS Annual Conference is the largest gathering of library and information professionals in Scotland. Speakers include Grace Blakeley\, author of Vulture Capitalism: Corporate Crimes\, Backdoor Bailouts and the Death of Freedom; and Klaas Gommers of the Dutch Association of Public Libraries. \nDundee\, Scotland\, UK
URL:https://iall.org/event/cilips-annual-conference-2026/
CATEGORIES:International Calendar
END:VEVENT
BEGIN:VEVENT
DTSTART;VALUE=DATE:20260604
DTEND;VALUE=DATE:20260606
DTSTAMP:20260421T100451
CREATED:20250910T170432Z
LAST-MODIFIED:20260312T155454Z
UID:12821-1780531200-1780703999@iall.org
SUMMARY:CALIcon: Conference for Law School Computing
DESCRIPTION:“Fit for Legal Education.” \nUniversity of Michigan\, Ann Arbor\, MI\, USA and on Zoom \n 
URL:https://iall.org/event/calicon-conference-for-law-school-computing/
CATEGORIES:International Calendar
END:VEVENT
BEGIN:VEVENT
DTSTART;VALUE=DATE:20260605
DTEND;VALUE=DATE:20260608
DTSTAMP:20260421T100451
CREATED:20251008T175013Z
LAST-MODIFIED:20251008T175013Z
UID:12857-1780617600-1780876799@iall.org
SUMMARY:The Teaching Professor Conference
DESCRIPTION:Inspirational\, peer-reviewed sessions and workshops designed to help engage today’s students\, with the latest technological developments and tools. \nSt. Louis\, MO\, USA
URL:https://iall.org/event/the-teaching-professor-conference/
CATEGORIES:International Calendar
END:VEVENT
BEGIN:VEVENT
DTSTART;VALUE=DATE:20260607
DTEND;VALUE=DATE:20260612
DTSTAMP:20260421T100451
CREATED:20251205T221034Z
LAST-MODIFIED:20260312T155904Z
UID:13043-1780790400-1781222399@iall.org
SUMMARY:ACURIL 2026 (Association of Caribbean University\, Research and Institutional Libraries)
DESCRIPTION:“Libraries\, Archives & Museums on the Frontline: Advocacy\, Innovation and Sustainability.” The conference will highlight how Caribbean libraries\, archives\, and museums drive social development and community growth; how\, with vision and purpose\, they shape the future; how innovation in new services transforms these institutions into vibrant community hubs; and how we move from collections to connections\, adapting creatively and sustainably to the challenges of today and tomorrow. \nSan Juan\, Puerto Rico\, USA
URL:https://iall.org/event/acuril-2026-association-of-caribbean-university-research-and-institutional-libraries/
CATEGORIES:International Calendar
END:VEVENT
BEGIN:VEVENT
DTSTART;VALUE=DATE:20260608
DTEND;VALUE=DATE:20260611
DTSTAMP:20260421T100451
CREATED:20260312T200053Z
LAST-MODIFIED:20260312T200053Z
UID:13495-1780876800-1781135999@iall.org
SUMMARY:CELS Global Brazil (Conference on Empirical Legal Studies)
DESCRIPTION:The conference is an interdisciplinary gathering that draws researchers from across the world\, bringing together scholars in law\, economics\, political science\, psychology\, and other fields who share an interest in the empirical analysis of law and legal institutions. The 2026 conference will be held jointly with the VI Brazilian Conference on Law and Public Policy (CBDPP). Keynote speakers include Justice Edson Fachin of the Brazilian Supreme Court. \nSão Paulo\, Brazil \n 
URL:https://iall.org/event/cels-global-brazil-conference-on-empirical-legal-studies/
CATEGORIES:International Calendar
END:VEVENT
BEGIN:VEVENT
DTSTART;VALUE=DATE:20260608
DTEND;VALUE=DATE:20260612
DTSTAMP:20260421T100451
CREATED:20251208T215111Z
LAST-MODIFIED:20251208T215111Z
UID:13063-1780876800-1781222399@iall.org
SUMMARY:SALALM LXXI (Seminar on the Acquisition of Latin American Library Materials)
DESCRIPTION:“Politics of Place: Land and the State in Latin America\, the Caribbean\, and its Diasporas.” The conference will  reflect on relationships to land and ways of being and knowing in the world as they vary across cultures\, languages\, knowledge systems\, the Global South\, and the Global North. These reflections will inform the dialogue about our collections and practices as information professionals\, vendors\, scholars\, and publishers. \nUniversity of Wisconsin – Madison\, WI\, USA
URL:https://iall.org/event/salalm-lxxi-seminar-on-the-acquisition-of-latin-american-library-materials/
CATEGORIES:International Calendar
END:VEVENT
BEGIN:VEVENT
DTSTART;VALUE=DATE:20260610
DTEND;VALUE=DATE:20260613
DTSTAMP:20260421T100451
CREATED:20251028T154915Z
LAST-MODIFIED:20260312T161151Z
UID:12874-1781049600-1781308799@iall.org
SUMMARY:BIALL 56th Annual Conference & Exhibition (British & Irish Association of Law Librarians)
DESCRIPTION:“From the Clyde to the Cloud: Legal Information in Transition.” Keynote speaker is Prof. Richard Susskind\, President of the Society for Computers and Law and author of How to think About AI. \nGlasgow\, Scotland\, UK
URL:https://iall.org/event/biall-56th-annual-conference-exhibition-british-irish-association-of-law-librarians/
CATEGORIES:International Calendar
END:VEVENT
BEGIN:VEVENT
DTSTART;VALUE=DATE:20260617
DTEND;VALUE=DATE:20260620
DTSTAMP:20260421T100451
CREATED:20250903T210303Z
LAST-MODIFIED:20251209T201200Z
UID:12789-1781654400-1781913599@iall.org
SUMMARY:Le congrès de l'ABF (L'Association des Bibliothécaires de France)
DESCRIPTION:“L’hospitalité” The theme of hospitality is embodied in free and open access to public reading establishments\, one of the main principles of the library profession. \nCouvent des Jacobins\, Rennes\, France
URL:https://iall.org/event/le-congres-de-labf-lassociation-des-bibliothecaires-de-france/
CATEGORIES:International Calendar
END:VEVENT
BEGIN:VEVENT
DTSTART;VALUE=DATE:20260625
DTEND;VALUE=DATE:20260630
DTSTAMP:20260421T100451
CREATED:20250201T034947Z
LAST-MODIFIED:20260312T161737Z
UID:11924-1782345600-1782777599@iall.org
SUMMARY:ALA Annual Conference & Exhibition (American Library Association)
DESCRIPTION:“For Our Libraries. For 150 Years More.” Featured speakers include Rachel Maddow\, Melissa Villaseñor\, Billy Porter\, and Wayne Brady. \nChicago\, IL\, USA
URL:https://iall.org/event/ala-annual-conference-exhibition-american-library-association/
CATEGORIES:International Calendar
END:VEVENT
END:VCALENDAR