BEGIN:VCALENDAR
VERSION:2.0
PRODID:-//IALL - ECPv6.15.18//NONSGML v1.0//EN
CALSCALE:GREGORIAN
METHOD:PUBLISH
X-WR-CALNAME:IALL
X-ORIGINAL-URL:https://iall.org
X-WR-CALDESC:Events for IALL
REFRESH-INTERVAL;VALUE=DURATION:PT1H
X-Robots-Tag:noindex
X-PUBLISHED-TTL:PT1H
BEGIN:VTIMEZONE
TZID:UTC
BEGIN:STANDARD
TZOFFSETFROM:+0000
TZOFFSETTO:+0000
TZNAME:UTC
DTSTART:20250101T000000
END:STANDARD
END:VTIMEZONE
BEGIN:VEVENT
DTSTART;VALUE=DATE:20260701
DTEND;VALUE=DATE:20260704
DTSTAMP:20260421T113145
CREATED:20250903T210658Z
LAST-MODIFIED:20260312T162307Z
UID:12791-1782864000-1783123199@iall.org
SUMMARY:LIBER 2026
DESCRIPTION:“The Power of Libraries in an Uncertain World.” Keynote speakers include Dr. Kenneth Ruud\, Director General at the Norwegian Defence Research Establishment; Jemimah Steinfeld\, CEO of Index on Censorship; and Dr. Patrick Weil\, chairman of Libraries without Borders. \nTrondheim\, Norway
URL:https://iall.org/event/liber-2026/
CATEGORIES:International Calendar
END:VEVENT
BEGIN:VEVENT
DTSTART;VALUE=DATE:20260701
DTEND;VALUE=DATE:20260704
DTSTAMP:20260421T113145
CREATED:20260312T201711Z
LAST-MODIFIED:20260312T201711Z
UID:13499-1782864000-1783123199@iall.org
SUMMARY:39th ACUNS Annual Meeting (Academic Council on the United Nations System)
DESCRIPTION:“Multilateralism under Challenge and the Future of the Pact.” The 2026 ACUNS Annual Meeting will examine how multilateral governance can be maintained despite challenges from major and emerging powers\, continuing armed conflicts\, humanitarian emergencies\, overheated planet\, and other crises.  Program themes include International Law and International Courts; Peace\, Security\, and Conflict Prevention; and Human Rights\, Refugees\, and Humanitarian Assistance. \nUniversidade NOVA de Lisboa\, Portugal
URL:https://iall.org/event/39th-acuns-annual-meeting-academic-council-on-the-united-nations-system/
CATEGORIES:International Calendar
END:VEVENT
BEGIN:VEVENT
DTSTART;VALUE=DATE:20260701
DTEND;VALUE=DATE:20260709
DTSTAMP:20260421T113145
CREATED:20260121T202312Z
LAST-MODIFIED:20260121T202312Z
UID:13158-1782864000-1783555199@iall.org
SUMMARY:International Library Leaders Programme
DESCRIPTION:“International Library Leaders Programme at the British Library” \nThe sixth International Library Leaders Programme\, for mid-career library and archive professionals\, is an intensive week-long programme of workshops\, talks and tours given by senior staff from across the Library’s core departments. It offers the opportunity for an intimate group of international library professionals to meet experts and learn from their experiences of dealing with the everyday issues facing libraries today. The deadline for applications is Thursday\, February 5\, 2026.  \nThe British Library\, London\, UK
URL:https://iall.org/event/international-library-leaders-programme/
CATEGORIES:International Calendar
END:VEVENT
BEGIN:VEVENT
DTSTART;VALUE=DATE:20260706
DTEND;VALUE=DATE:20260708
DTSTAMP:20260421T113145
CREATED:20260320T143145Z
LAST-MODIFIED:20260320T143145Z
UID:13561-1783296000-1783468799@iall.org
SUMMARY:2026 ASIL Abroad (American Society of International Law)
DESCRIPTION:“The International Legal Order at a Crossroads: Rupture\, Resilience\, and Renewal.”  The conference will consider what the future of the international legal order might hold — and what role international lawyers\, and voices from the Global South in particular\, can play in shaping its next chapter. \n  \nBuenos Aires\, Argentina
URL:https://iall.org/event/2026-asil-abroad-american-society-of-international-law/
CATEGORIES:International Calendar
END:VEVENT
BEGIN:VEVENT
DTSTART;VALUE=DATE:20260715
DTEND;VALUE=DATE:20260719
DTSTAMP:20260421T113145
CREATED:20250903T211241Z
LAST-MODIFIED:20250903T211241Z
UID:12795-1784073600-1784419199@iall.org
SUMMARY:2026 Legal Writing Institute Conference
DESCRIPTION:“LWI Assemble” \nUniversity of Minnesota\, Minneapolis\, MN\, USA
URL:https://iall.org/event/2026-legal-writing-institute-conference/
CATEGORIES:International Calendar
END:VEVENT
BEGIN:VEVENT
DTSTART;VALUE=DATE:20260716
DTEND;VALUE=DATE:20260719
DTSTAMP:20260421T113145
CREATED:20260113T145734Z
LAST-MODIFIED:20260113T145734Z
UID:13139-1784160000-1784419199@iall.org
SUMMARY:Eighteenth Annual Boulder Conference on Legal Information\, Scholarship and Teaching
DESCRIPTION:“CoLIST in Cleveland.” The purpose of the conference is to provide a forum for authors to present on topics including legal pedagogy and AI in legal research\, offer authors to opportunity to engage with discussants\, and discuss integrating legal research instruction into the curriculum. \nCase Western Reserve Univ. School of Law\, Cleveland\, OH\, USA
URL:https://iall.org/event/eighteenth-annual-boulder-conference-on-legal-information-scholarship-and-teaching/
CATEGORIES:International Calendar
END:VEVENT
BEGIN:VEVENT
DTSTART;VALUE=DATE:20260718
DTEND;VALUE=DATE:20260722
DTSTAMP:20260421T113145
CREATED:20250201T034947Z
LAST-MODIFIED:20260312T162503Z
UID:11925-1784332800-1784678399@iall.org
SUMMARY:AALL Annual Meeting (American Association of Law Libraries)
DESCRIPTION:“Leading with Aloha.” Programs include Exploring the Globe: Cataloging Foreign Materials; History at the High Court: Lessons from the Court’s use of Historical Sources and Tips for Using and Teaching Historical Sources; and Neighbors to the North: Understanding the Canadian Legal Landscape. Keynote speaker is Judge Micah W.J. Smith of the U.S. District Court for the District of Hawai’i. \nCleveland\, OH\, USA
URL:https://iall.org/event/aall-annual-meeting-american-association-of-law-libraries-2/
CATEGORIES:International Calendar
END:VEVENT
BEGIN:VEVENT
DTSTART;VALUE=DATE:20260729
DTEND;VALUE=DATE:20260802
DTSTAMP:20260421T113145
CREATED:20250903T210933Z
LAST-MODIFIED:20250903T210933Z
UID:12793-1785283200-1785628799@iall.org
SUMMARY:90th Annual Meeting of the Society of American Archivists
DESCRIPTION:“Archives * Records 2026.” \nNew Orleans\, LA\, USA
URL:https://iall.org/event/90th-annual-meeting-of-the-society-of-american-archivists/
CATEGORIES:International Calendar
END:VEVENT
END:VCALENDAR