BEGIN:VCALENDAR
VERSION:2.0
PRODID:-//IALL - ECPv6.15.18//NONSGML v1.0//EN
CALSCALE:GREGORIAN
METHOD:PUBLISH
X-ORIGINAL-URL:https://iall.org
X-WR-CALDESC:Events for IALL
REFRESH-INTERVAL;VALUE=DURATION:PT1H
X-Robots-Tag:noindex
X-PUBLISHED-TTL:PT1H
BEGIN:VTIMEZONE
TZID:UTC
BEGIN:STANDARD
TZOFFSETFROM:+0000
TZOFFSETTO:+0000
TZNAME:UTC
DTSTART:20250101T000000
END:STANDARD
END:VTIMEZONE
BEGIN:VEVENT
DTSTART;VALUE=DATE:20261002
DTEND;VALUE=DATE:20261004
DTSTAMP:20260421T160143
CREATED:20260312T200322Z
LAST-MODIFIED:20260312T201312Z
UID:13497-1790899200-1791071999@iall.org
SUMMARY:2026 Annual Conference on Empirical Legal Studies (CELS)
DESCRIPTION:Northwestern University Pritzker School of Law\, Evanston\, IL\, USA
URL:https://iall.org/event/2026-annual-conference-on-empirical-legal-studies-cels/
CATEGORIES:International Calendar
END:VEVENT
BEGIN:VEVENT
DTSTART;VALUE=DATE:20261007
DTEND;VALUE=DATE:20261012
DTSTAMP:20260421T160143
CREATED:20250903T213114Z
LAST-MODIFIED:20250903T213114Z
UID:12805-1791331200-1791763199@iall.org
SUMMARY:5th National Joint Conference of Librarians of Color
DESCRIPTION:JCLC brings together a diverse group of librarians\, library staff\, library supporters\, and community participants to explore issues of diversity in libraries and how they affect the ethnic communities who use our services. \nSpokane\, WA\, USA
URL:https://iall.org/event/5th-national-joint-conference-of-librarians-of-color/
CATEGORIES:International Calendar
END:VEVENT
BEGIN:VEVENT
DTSTART;VALUE=DATE:20261022
DTEND;VALUE=DATE:20261025
DTSTAMP:20260421T160143
CREATED:20260312T195523Z
LAST-MODIFIED:20260312T195523Z
UID:13493-1792627200-1792886399@iall.org
SUMMARY:International Law Weekend (American Branch\, International Law Association)
DESCRIPTION:“[R]evolution in the International Legal Order.” This interdisciplinary conference will explore how states and regional groupings can step forward to uphold\, reinterpret\, and strengthen international law through cooperation\, innovation\, and leadership. It will also highlight the constructive roles of international institutions\, non-state actors\, and civil society in sustaining\, contesting\, and advancing legal norms. \nNew York City\, NY\, USA
URL:https://iall.org/event/international-law-weekend-american-branch-international-law-association/
CATEGORIES:International Calendar
END:VEVENT
END:VCALENDAR